BEGIN:VCALENDAR
VERSION:2.0
PRODID:-//Plancton Diving - ECPv6.15.18//NONSGML v1.0//EN
CALSCALE:GREGORIAN
METHOD:PUBLISH
X-WR-CALNAME:Plancton Diving
X-ORIGINAL-URL:https://www.planctondiving.cat
X-WR-CALDESC:Esdeveniments per Plancton Diving
REFRESH-INTERVAL;VALUE=DURATION:PT1H
X-Robots-Tag:noindex
X-PUBLISHED-TTL:PT1H
BEGIN:VTIMEZONE
TZID:Europe/Helsinki
BEGIN:DAYLIGHT
TZOFFSETFROM:+0200
TZOFFSETTO:+0300
TZNAME:EEST
DTSTART:20210328T010000
END:DAYLIGHT
BEGIN:STANDARD
TZOFFSETFROM:+0300
TZOFFSETTO:+0200
TZNAME:EET
DTSTART:20211031T010000
END:STANDARD
BEGIN:DAYLIGHT
TZOFFSETFROM:+0200
TZOFFSETTO:+0300
TZNAME:EEST
DTSTART:20220327T010000
END:DAYLIGHT
BEGIN:STANDARD
TZOFFSETFROM:+0300
TZOFFSETTO:+0200
TZNAME:EET
DTSTART:20221030T010000
END:STANDARD
BEGIN:DAYLIGHT
TZOFFSETFROM:+0200
TZOFFSETTO:+0300
TZNAME:EEST
DTSTART:20230326T010000
END:DAYLIGHT
BEGIN:STANDARD
TZOFFSETFROM:+0300
TZOFFSETTO:+0200
TZNAME:EET
DTSTART:20231029T010000
END:STANDARD
END:VTIMEZONE
BEGIN:VEVENT
DTSTART;TZID=Europe/Helsinki:20220711T080000
DTEND;TZID=Europe/Helsinki:20220713T140000
DTSTAMP:20260426T064855
CREATED:20210426T023426Z
LAST-MODIFIED:20211203T183945Z
UID:3421-1657526400-1657720800@www.planctondiving.cat
SUMMARY:Curs Open Water Diver
DESCRIPTION:Si has arribat fins aquesta pàgina és que comences a tenir el “cuquet” del busseig dins teu. Potser ja has fet algun bateig de submarinisme (o no\, no és imprescindible) i ja saps que això de respirar sota l’aigua i que la sensació de “volar” per dins de l’aigua t’agrada. \nEfectivament\, el següent pas en el món del busseig es aquest curs d’iniciació que et presentem aquí: l’Open Water Diver. \nL’Open Water Diver serà el curs que t’obrirà les portes al món submarí i durant aquestes hores de classes teòriques i pràctiques aprendràs conceptes bàsics de seguretat\, sobre els equips\, flotabilitat\, entendràs què li passa al teu cos quan es troba dins de l’aigua o que el teu company/a de busseig és la primera mesura de seguretat.
URL:https://www.planctondiving.cat/event/curs-open-water-diver-11/
LOCATION:Tarragona
CATEGORIES:Cursos,Submarinisme
ATTACH;FMTTYPE=image/jpeg:https://www.planctondiving.cat/wp-content/uploads/2020/09/owd.jpg
END:VEVENT
BEGIN:VEVENT
DTSTART;VALUE=DATE:20220713
DTEND;VALUE=DATE:20220716
DTSTAMP:20260426T064855
CREATED:20220618T173910Z
LAST-MODIFIED:20220618T174203Z
UID:6698-1657670400-1657929599@www.planctondiving.cat
SUMMARY:Extended Range - Foundations
DESCRIPTION:El curs de busseig Extended Range Foundations és un curs d’introducció al busseig tècnic i el primer pas per passar-te al que els submarinistes anomenem “el costat fosc”. \nCom funciona el curs?\nCom tots els cursos de la nostra certificadora de busseig SSI\, tindràs a la teva disposició la teoria per estudiar-la en línia des de qualsevol lloc del planeta\, al teu ritme i en l’idioma que desitgis. A més\, tenim un grup de Facebook amb diversos vídeos que t’ha preparat el nostre instructor i director tècnic Xavi Llambrich\, perquè puguis fer les seves sessions teòriques des de casa tranquil·lament quan estiguis concentrat/da. \nMés info aquí
URL:https://www.planctondiving.cat/event/foundations-3/
LOCATION:Tarragona
CATEGORIES:Cursos,Submarinisme
ATTACH;FMTTYPE=image/jpeg:https://www.planctondiving.cat/wp-content/uploads/2021/11/218290013_1160973410980731_707634472233795559_n.jpg
END:VEVENT
END:VCALENDAR