BEGIN:VCALENDAR
VERSION:2.0
PRODID:-//Plancton Diving - ECPv6.15.18//NONSGML v1.0//EN
CALSCALE:GREGORIAN
METHOD:PUBLISH
X-WR-CALNAME:Plancton Diving
X-ORIGINAL-URL:https://www.planctondiving.cat
X-WR-CALDESC:Esdeveniments per Plancton Diving
REFRESH-INTERVAL;VALUE=DURATION:PT1H
X-Robots-Tag:noindex
X-PUBLISHED-TTL:PT1H
BEGIN:VTIMEZONE
TZID:Europe/Helsinki
BEGIN:DAYLIGHT
TZOFFSETFROM:+0200
TZOFFSETTO:+0300
TZNAME:EEST
DTSTART:20210328T010000
END:DAYLIGHT
BEGIN:STANDARD
TZOFFSETFROM:+0300
TZOFFSETTO:+0200
TZNAME:EET
DTSTART:20211031T010000
END:STANDARD
BEGIN:DAYLIGHT
TZOFFSETFROM:+0200
TZOFFSETTO:+0300
TZNAME:EEST
DTSTART:20220327T010000
END:DAYLIGHT
BEGIN:STANDARD
TZOFFSETFROM:+0300
TZOFFSETTO:+0200
TZNAME:EET
DTSTART:20221030T010000
END:STANDARD
BEGIN:DAYLIGHT
TZOFFSETFROM:+0200
TZOFFSETTO:+0300
TZNAME:EEST
DTSTART:20230326T010000
END:DAYLIGHT
BEGIN:STANDARD
TZOFFSETFROM:+0300
TZOFFSETTO:+0200
TZNAME:EET
DTSTART:20231029T010000
END:STANDARD
END:VTIMEZONE
BEGIN:VEVENT
DTSTART;VALUE=DATE:20220720
DTEND;VALUE=DATE:20220722
DTSTAMP:20260426T051641
CREATED:20220618T174604Z
LAST-MODIFIED:20220618T174729Z
UID:6708-1658275200-1658447999@www.planctondiving.cat
SUMMARY:Advanced Wreck
DESCRIPTION:Els derelictes són tresors ocults que descansen sota les onades. Embarcacions enfonsades per accident o intencionadament que ofereixen oportunitats úniques per bussejar entre les restes de la història. \nAquests derelictes ens proporcionen moltes oportunitats per l’exploració\, però poden tenir perills ocults. Per bussejar amb seguretat hem de ser conscients d’aquests elements que poden perills\, i ha de tenir el coneixement i l’experiència adequada per avaluar correctament el possible perill. \nMés info aquí
URL:https://www.planctondiving.cat/event/advanced-wreck-4/
LOCATION:Tarragona
CATEGORIES:Cursos,Submarinisme
ATTACH;FMTTYPE=image/jpeg:https://www.planctondiving.cat/wp-content/uploads/2020/09/wrec.jpg
END:VEVENT
BEGIN:VEVENT
DTSTART;TZID=Europe/Helsinki:20220720T080000
DTEND;TZID=Europe/Helsinki:20220722T140000
DTSTAMP:20260426T051641
CREATED:20210426T023319Z
LAST-MODIFIED:20211203T184033Z
UID:3419-1658304000-1658498400@www.planctondiving.cat
SUMMARY:Curs Open Water Diver
DESCRIPTION:Si has arribat fins aquesta pàgina és que comences a tenir el “cuquet” del busseig dins teu. Potser ja has fet algun bateig de submarinisme (o no\, no és imprescindible) i ja saps que això de respirar sota l’aigua i que la sensació de “volar” per dins de l’aigua t’agrada. \nEfectivament\, el següent pas en el món del busseig es aquest curs d’iniciació que et presentem aquí: l’Open Water Diver. \nL’Open Water Diver serà el curs que t’obrirà les portes al món submarí i durant aquestes hores de classes teòriques i pràctiques aprendràs conceptes bàsics de seguretat\, sobre els equips\, flotabilitat\, entendràs què li passa al teu cos quan es troba dins de l’aigua o que el teu company/a de busseig és la primera mesura de seguretat.
URL:https://www.planctondiving.cat/event/curs-open-water-diver-10/
LOCATION:Tarragona
CATEGORIES:Cursos,Submarinisme
ATTACH;FMTTYPE=image/jpeg:https://www.planctondiving.cat/wp-content/uploads/2020/09/owd.jpg
END:VEVENT
END:VCALENDAR