BEGIN:VCALENDAR
VERSION:2.0
PRODID:-//Plancton Diving - ECPv6.15.18//NONSGML v1.0//EN
CALSCALE:GREGORIAN
METHOD:PUBLISH
X-WR-CALNAME:Plancton Diving
X-ORIGINAL-URL:https://www.planctondiving.cat
X-WR-CALDESC:Esdeveniments per Plancton Diving
REFRESH-INTERVAL;VALUE=DURATION:PT1H
X-Robots-Tag:noindex
X-PUBLISHED-TTL:PT1H
BEGIN:VTIMEZONE
TZID:Europe/Helsinki
BEGIN:DAYLIGHT
TZOFFSETFROM:+0200
TZOFFSETTO:+0300
TZNAME:EEST
DTSTART:20210328T010000
END:DAYLIGHT
BEGIN:STANDARD
TZOFFSETFROM:+0300
TZOFFSETTO:+0200
TZNAME:EET
DTSTART:20211031T010000
END:STANDARD
BEGIN:DAYLIGHT
TZOFFSETFROM:+0200
TZOFFSETTO:+0300
TZNAME:EEST
DTSTART:20220327T010000
END:DAYLIGHT
BEGIN:STANDARD
TZOFFSETFROM:+0300
TZOFFSETTO:+0200
TZNAME:EET
DTSTART:20221030T010000
END:STANDARD
BEGIN:DAYLIGHT
TZOFFSETFROM:+0200
TZOFFSETTO:+0300
TZNAME:EEST
DTSTART:20230326T010000
END:DAYLIGHT
BEGIN:STANDARD
TZOFFSETFROM:+0300
TZOFFSETTO:+0200
TZNAME:EET
DTSTART:20231029T010000
END:STANDARD
END:VTIMEZONE
BEGIN:VEVENT
DTSTART;VALUE=DATE:20220727
DTEND;VALUE=DATE:20220729
DTSTAMP:20260426T033418
CREATED:20210630T085633Z
LAST-MODIFIED:20220618T174959Z
UID:3873-1658880000-1659052799@www.planctondiving.cat
SUMMARY:Search and Recovery
DESCRIPTION:El curs en Cerca i Recuperació no és exclusiu per a submarinistes professionals! La formació en diverses tècniques de busseig et proporciona entrenament i experiència que serà molt útil si has de resoldre situacions complicades sota l’aigua o ajudar al company/a. \nAquesta especialitat et resultarà molt útil en molts moments: si durant una immersió has perdut una part de l’equip i ho vols recuperar\, si participes en algun programa de busseig científic i has de realitzar la planificació del mostreig\, o bé si estàs fent una neteja submarina i necessites fer servir globus elevadors per a pujar objectes pesats. \nDesprés de realitzar aquest curs tindràs les habilitats i sabràs els conceptes necessaris per a planificar i dur a terme immersions de cerca i recuperació amb seguretat. Aquí coneixeràs els patrons de cerca\, els plans d’immersió especialitzats\, la comunicació submarina i la manera de recuperar objectes petits i mitjans amb equips especialitzats com ara bosses elevadores. \nCom a tots els cursos de SSI\, tindràs a la teva disposició la teoria per a estudiar-la online des de qualsevol part del planeta\, al teu ritme i en l’idioma que desitgis. La formació pràctica la rebràs de part del nostre Director tècnic\, en Xavi Llambrich\, bomber GRAE de rescat subaquàtic a la Generalitat de Catalunya\, i amb una llarga experiència en la formació de submarinistes de diferents nivells. \nRecorda que aquest és un curs d’especialitat que compta de cara a l’obtenció del teu certificat Advanced Open Water Diver\, el qual podràs obtenir en assolir 4 especialitats i 24 immersions registrades al teu logbook digital d’SSI. \nMés info aquí
URL:https://www.planctondiving.cat/event/search-and-recovery/
LOCATION:Tarragona
CATEGORIES:Cursos,Submarinisme
ATTACH;FMTTYPE=image/jpeg:https://www.planctondiving.cat/wp-content/uploads/2021/01/472541_Search-Recovery-Small.jpg
END:VEVENT
BEGIN:VEVENT
DTSTART;TZID=Europe/Helsinki:20220728T080000
DTEND;TZID=Europe/Helsinki:20220730T140000
DTSTAMP:20260426T033418
CREATED:20210426T023229Z
LAST-MODIFIED:20211203T184135Z
UID:3417-1658995200-1659189600@www.planctondiving.cat
SUMMARY:Curs Open Water Diver
DESCRIPTION:Si has arribat fins aquesta pàgina és que comences a tenir el “cuquet” del busseig dins teu. Potser ja has fet algun bateig de submarinisme (o no\, no és imprescindible) i ja saps que això de respirar sota l’aigua i que la sensació de “volar” per dins de l’aigua t’agrada. \nEfectivament\, el següent pas en el món del busseig es aquest curs d’iniciació que et presentem aquí: l’Open Water Diver. \nL’Open Water Diver serà el curs que t’obrirà les portes al món submarí i durant aquestes hores de classes teòriques i pràctiques aprendràs conceptes bàsics de seguretat\, sobre els equips\, flotabilitat\, entendràs què li passa al teu cos quan es troba dins de l’aigua o que el teu company/a de busseig és la primera mesura de seguretat.
URL:https://www.planctondiving.cat/event/curs-open-water-diver-9/
LOCATION:Tarragona
CATEGORIES:Cursos,Submarinisme
ATTACH;FMTTYPE=image/jpeg:https://www.planctondiving.cat/wp-content/uploads/2020/09/owd.jpg
END:VEVENT
END:VCALENDAR