BEGIN:VCALENDAR
VERSION:2.0
PRODID:-//Plancton Diving - ECPv6.15.18//NONSGML v1.0//EN
CALSCALE:GREGORIAN
METHOD:PUBLISH
X-ORIGINAL-URL:https://www.planctondiving.cat
X-WR-CALDESC:Esdeveniments per Plancton Diving
REFRESH-INTERVAL;VALUE=DURATION:PT1H
X-Robots-Tag:noindex
X-PUBLISHED-TTL:PT1H
BEGIN:VTIMEZONE
TZID:Europe/Helsinki
BEGIN:DAYLIGHT
TZOFFSETFROM:+0200
TZOFFSETTO:+0300
TZNAME:EEST
DTSTART:20220327T010000
END:DAYLIGHT
BEGIN:STANDARD
TZOFFSETFROM:+0300
TZOFFSETTO:+0200
TZNAME:EET
DTSTART:20221030T010000
END:STANDARD
BEGIN:DAYLIGHT
TZOFFSETFROM:+0200
TZOFFSETTO:+0300
TZNAME:EEST
DTSTART:20230326T010000
END:DAYLIGHT
BEGIN:STANDARD
TZOFFSETFROM:+0300
TZOFFSETTO:+0200
TZNAME:EET
DTSTART:20231029T010000
END:STANDARD
BEGIN:DAYLIGHT
TZOFFSETFROM:+0200
TZOFFSETTO:+0300
TZNAME:EEST
DTSTART:20240331T010000
END:DAYLIGHT
BEGIN:STANDARD
TZOFFSETFROM:+0300
TZOFFSETTO:+0200
TZNAME:EET
DTSTART:20241027T010000
END:STANDARD
END:VTIMEZONE
BEGIN:VEVENT
DTSTART;VALUE=DATE:20230212
DTEND;VALUE=DATE:20230306
DTSTAMP:20260425T133401
CREATED:20230129T212526Z
LAST-MODIFIED:20230201T101435Z
UID:7341-1676160000-1678060799@www.planctondiving.cat
SUMMARY:Extended Range - Foundations
DESCRIPTION:El curs de busseig Extended Range Foundations és un curs d’introducció al busseig tècnic i el primer pas per passar-te al que els submarinistes anomenem “el costat fosc”. \nCom funciona el curs?\nCom tots els cursos de la nostra certificadora de busseig SSI\, tindràs a la teva disposició la teoria per estudiar-la en línia des de qualsevol lloc del planeta\, al teu ritme i en l’idioma que desitgis. A més\, tenim un grup de Facebook amb diversos vídeos que t’ha preparat el nostre instructor i director tècnic Xavi Llambrich\, perquè puguis fer les seves sessions teòriques des de casa tranquil·lament quan estiguis concentrat/da. \nAquestes són les dates del curs: \nFebrer 2023: Dies 12\, 13 i 25. \nMarç: dia 5 \nMés info aquí
URL:https://www.planctondiving.cat/event/extended-range-foundations/
LOCATION:Tarragona
CATEGORIES:Cursos,Submarinisme
ATTACH;FMTTYPE=image/jpeg:https://www.planctondiving.cat/wp-content/uploads/2021/11/218290013_1160973410980731_707634472233795559_n.jpg
END:VEVENT
BEGIN:VEVENT
DTSTART;TZID=Europe/Helsinki:20230226T090000
DTEND;TZID=Europe/Helsinki:20230226T140000
DTSTAMP:20260425T133401
CREATED:20230129T211206Z
LAST-MODIFIED:20230129T211206Z
UID:7323-1677402000-1677420000@www.planctondiving.cat
SUMMARY:Scooter
DESCRIPTION:Voleu gaudir d’immersions més llargues\, arribar més lluny i descobrir àrees més profundes? El programa d’especialitat Scooter/DPV de SSI és just el que estàs buscant! Les cames et permeten arribar a una distància limitada\, però amb un scooter submarí o un vehicle de propulsió de busseig (DPV)\, sempre bussejaràs amb més facilitat i comoditat. \nAquí trobareu tota la informació del cursos de scooter
URL:https://www.planctondiving.cat/event/scooter-6/
LOCATION:Tarragona
CATEGORIES:Cursos,Submarinisme
ATTACH;FMTTYPE=image/jpeg:https://www.planctondiving.cat/wp-content/uploads/2021/11/Presentation-Scooter-DPV-Diving1.jpg
END:VEVENT
END:VCALENDAR