BEGIN:VCALENDAR
VERSION:2.0
PRODID:-//Plancton Diving - ECPv6.15.18//NONSGML v1.0//EN
CALSCALE:GREGORIAN
METHOD:PUBLISH
X-WR-CALNAME:Plancton Diving
X-ORIGINAL-URL:https://www.planctondiving.cat
X-WR-CALDESC:Esdeveniments per Plancton Diving
REFRESH-INTERVAL;VALUE=DURATION:PT1H
X-Robots-Tag:noindex
X-PUBLISHED-TTL:PT1H
BEGIN:VTIMEZONE
TZID:Europe/Helsinki
BEGIN:DAYLIGHT
TZOFFSETFROM:+0200
TZOFFSETTO:+0300
TZNAME:EEST
DTSTART:20220327T010000
END:DAYLIGHT
BEGIN:STANDARD
TZOFFSETFROM:+0300
TZOFFSETTO:+0200
TZNAME:EET
DTSTART:20221030T010000
END:STANDARD
BEGIN:DAYLIGHT
TZOFFSETFROM:+0200
TZOFFSETTO:+0300
TZNAME:EEST
DTSTART:20230326T010000
END:DAYLIGHT
BEGIN:STANDARD
TZOFFSETFROM:+0300
TZOFFSETTO:+0200
TZNAME:EET
DTSTART:20231029T010000
END:STANDARD
BEGIN:DAYLIGHT
TZOFFSETFROM:+0200
TZOFFSETTO:+0300
TZNAME:EEST
DTSTART:20240331T010000
END:DAYLIGHT
BEGIN:STANDARD
TZOFFSETFROM:+0300
TZOFFSETTO:+0200
TZNAME:EET
DTSTART:20241027T010000
END:STANDARD
END:VTIMEZONE
BEGIN:VEVENT
DTSTART;VALUE=DATE:20230710
DTEND;VALUE=DATE:20230715
DTSTAMP:20260424T134935
CREATED:20230627T151811Z
LAST-MODIFIED:20230627T151811Z
UID:7928-1688947200-1689379199@www.planctondiving.cat
SUMMARY:Foundations
DESCRIPTION:El curs de busseig Foundations és un curs d’introducció al busseig tècnic i el primer pas per passar-te al que els submarinistes anomenem “el costat fosc”. \nCom funciona el curs?\nCom tots els cursos de la nostra certificadora de busseig SSI\, tindràs a la teva disposició la teoria per estudiar-la en línia des de qualsevol lloc del planeta\, al teu ritme i en l’idioma que desitgis. A més\, tenim un grup de Facebook amb diversos vídeos que t’ha preparat el nostre instructor i director tècnic Xavi Llambrich\, perquè puguis fer les seves sessions teòriques des de casa tranquil·lament quan estiguis concentrat/da. \nAquestes són les dates del curs: \nJuliol 2023: Dies 10\, 11\, 12 i 14. \nMés info aquí
URL:https://www.planctondiving.cat/event/foundations-4/
LOCATION:Tarragona
CATEGORIES:Cursos,Submarinisme
ATTACH;FMTTYPE=image/jpeg:https://www.planctondiving.cat/wp-content/uploads/2023/06/extended-27.jpg
END:VEVENT
BEGIN:VEVENT
DTSTART;TZID=Europe/Helsinki:20230711T170000
DTEND;TZID=Europe/Helsinki:20230711T233000
DTSTAMP:20260424T134935
CREATED:20230129T214736Z
LAST-MODIFIED:20230129T214736Z
UID:7385-1689094800-1689118200@www.planctondiving.cat
SUMMARY:Busseig nocturn i visibilitat reduïda
DESCRIPTION:Amb el curs de busseig nocturn i visibilitat reduida les teves immersions no s’acabaran quan es posa el sol\, o quan l’aigua no sigui totalment transparent o si vols bussejar en una pedrera on en un llac. \nMés info aquí
URL:https://www.planctondiving.cat/event/busseig-nocturn-i-visibilitat-reduida-11/
LOCATION:Tarragona
ATTACH;FMTTYPE=image/jpeg:https://www.planctondiving.cat/wp-content/uploads/2020/09/night-limited-visibility.jpg
END:VEVENT
END:VCALENDAR