BEGIN:VCALENDAR
VERSION:2.0
PRODID:-//Plancton Diving - ECPv6.15.18//NONSGML v1.0//EN
CALSCALE:GREGORIAN
METHOD:PUBLISH
X-ORIGINAL-URL:https://www.planctondiving.cat
X-WR-CALDESC:Esdeveniments per Plancton Diving
REFRESH-INTERVAL;VALUE=DURATION:PT1H
X-Robots-Tag:noindex
X-PUBLISHED-TTL:PT1H
BEGIN:VTIMEZONE
TZID:Europe/Helsinki
BEGIN:DAYLIGHT
TZOFFSETFROM:+0200
TZOFFSETTO:+0300
TZNAME:EEST
DTSTART:20230326T010000
END:DAYLIGHT
BEGIN:STANDARD
TZOFFSETFROM:+0300
TZOFFSETTO:+0200
TZNAME:EET
DTSTART:20231029T010000
END:STANDARD
BEGIN:DAYLIGHT
TZOFFSETFROM:+0200
TZOFFSETTO:+0300
TZNAME:EEST
DTSTART:20240331T010000
END:DAYLIGHT
BEGIN:STANDARD
TZOFFSETFROM:+0300
TZOFFSETTO:+0200
TZNAME:EET
DTSTART:20241027T010000
END:STANDARD
BEGIN:DAYLIGHT
TZOFFSETFROM:+0200
TZOFFSETTO:+0300
TZNAME:EEST
DTSTART:20250330T010000
END:DAYLIGHT
BEGIN:STANDARD
TZOFFSETFROM:+0300
TZOFFSETTO:+0200
TZNAME:EET
DTSTART:20251026T010000
END:STANDARD
END:VTIMEZONE
BEGIN:VEVENT
DTSTART;VALUE=DATE:20240511
DTEND;VALUE=DATE:20240512
DTSTAMP:20260423T145323
CREATED:20240303T163947Z
LAST-MODIFIED:20240306T140540Z
UID:8835-1715385600-1715471999@www.planctondiving.cat
SUMMARY:Swim For ELA
DESCRIPTION:Esdeveniment esportiu solidari de natació en aigües obertes. Es tracta de la III Edició de la Travessa Port de Calafat (L’Ametlla de Mar) a Cambrils\,  de 23 km per equips i se celebrarà el proper 11 de maig del 2024. \nAquest any Plàncton Diving se sumarà a aquest esdeveniment com a col·laborador\, oferint suport logístic i organitzant un taller de conscienciació al port de Cambrils.
URL:https://www.planctondiving.cat/event/swim-for-ela/
LOCATION:Tarragona
ATTACH;FMTTYPE=image/webp:https://www.planctondiving.cat/wp-content/uploads/2024/03/swim.webp
END:VEVENT
BEGIN:VEVENT
DTSTART;TZID=Europe/Helsinki:20240511T153000
DTEND;TZID=Europe/Helsinki:20240511T200000
DTSTAMP:20260423T145323
CREATED:20240303T165018Z
LAST-MODIFIED:20240303T165049Z
UID:8847-1715441400-1715457600@www.planctondiving.cat
SUMMARY:Primers Auxilis - React Right
DESCRIPTION:El busseig és una activitat recreativa\, que com totes les que es realitzen a la natura\, no està exempta de cert risc de patir un accident. En alguns cursos de busseig com el OWD o el Rescue Diver ja es dona una formació per prevenir i evitar els accidents\, i fins i tot s’ensenyen pautes per donar una primera resposta a l’emèrgencia. \nEn aquest curs de Primer Auxilis – React Right complementaràs la teva formació i milloraràs la teva reacció davant d’un accident de busseig dins de l’aigua durant una immersió o fora\, a la barca. \nÉs un curs bàsic per a qualsevol submariniste que vulgui estar ben format i és IMPRESCINDIBLE en la teva formació de bussejador professional al busseig recreatiu. \nMés info aquí
URL:https://www.planctondiving.cat/event/primers-auxilis-react-right-4/
LOCATION:Tarragona
CATEGORIES:Cursos,Submarinisme
ATTACH;FMTTYPE=image/jpeg:https://www.planctondiving.cat/wp-content/uploads/2020/09/react.jpg
END:VEVENT
BEGIN:VEVENT
DTSTART;TZID=Europe/Helsinki:20240511T170000
DTEND;TZID=Europe/Helsinki:20240511T233000
DTSTAMP:20260423T145323
CREATED:20240303T164846Z
LAST-MODIFIED:20240303T164919Z
UID:8845-1715446800-1715470200@www.planctondiving.cat
SUMMARY:Busseig nocturn i visibilitat reduïda
DESCRIPTION:Amb el curs de busseig nocturn i visibilitat reduida les teves immersions no s’acabaran quan es posa el sol\, o quan l’aigua no sigui totalment transparent o si vols bussejar en una pedrera on en un llac. \nMés info aquí
URL:https://www.planctondiving.cat/event/busseig-nocturn-i-visibilitat-reduida-20/
LOCATION:Tarragona
ATTACH;FMTTYPE=image/jpeg:https://www.planctondiving.cat/wp-content/uploads/2020/09/night-limited-visibility.jpg
END:VEVENT
END:VCALENDAR