BEGIN:VCALENDAR
VERSION:2.0
PRODID:-//Plancton Diving - ECPv6.15.18//NONSGML v1.0//EN
CALSCALE:GREGORIAN
METHOD:PUBLISH
X-WR-CALNAME:Plancton Diving
X-ORIGINAL-URL:https://www.planctondiving.cat
X-WR-CALDESC:Esdeveniments per Plancton Diving
REFRESH-INTERVAL;VALUE=DURATION:PT1H
X-Robots-Tag:noindex
X-PUBLISHED-TTL:PT1H
BEGIN:VTIMEZONE
TZID:Europe/Helsinki
BEGIN:DAYLIGHT
TZOFFSETFROM:+0200
TZOFFSETTO:+0300
TZNAME:EEST
DTSTART:20230326T010000
END:DAYLIGHT
BEGIN:STANDARD
TZOFFSETFROM:+0300
TZOFFSETTO:+0200
TZNAME:EET
DTSTART:20231029T010000
END:STANDARD
BEGIN:DAYLIGHT
TZOFFSETFROM:+0200
TZOFFSETTO:+0300
TZNAME:EEST
DTSTART:20240331T010000
END:DAYLIGHT
BEGIN:STANDARD
TZOFFSETFROM:+0300
TZOFFSETTO:+0200
TZNAME:EET
DTSTART:20241027T010000
END:STANDARD
BEGIN:DAYLIGHT
TZOFFSETFROM:+0200
TZOFFSETTO:+0300
TZNAME:EEST
DTSTART:20250330T010000
END:DAYLIGHT
BEGIN:STANDARD
TZOFFSETFROM:+0300
TZOFFSETTO:+0200
TZNAME:EET
DTSTART:20251026T010000
END:STANDARD
END:VTIMEZONE
BEGIN:VEVENT
DTSTART;TZID=Europe/Helsinki:20240524T090000
DTEND;TZID=Europe/Helsinki:20240526T150000
DTSTAMP:20260423T115628
CREATED:20240303T165716Z
LAST-MODIFIED:20240303T165752Z
UID:8856-1716541200-1716735600@www.planctondiving.cat
SUMMARY:Curs Open Water Diver
DESCRIPTION:Si has arribat fins aquesta pàgina és que comences a tenir el “cuquet” del busseig dins teu. Potser ja has fet algun bateig de submarinisme (o no\, no és imprescindible) i ja saps que això de respirar sota l’aigua i que la sensació de “volar” per dins de l’aigua t’agrada. \nEfectivament\, el següent pas en el món del busseig es aquest curs d’iniciació que et presentem aquí: l’Open Water Diver. \nL’Open Water Diver serà el curs que t’obrirà les portes al món submarí i durant aquestes hores de classes teòriques i pràctiques aprendràs conceptes bàsics de seguretat\, sobre els equips\, flotabilitat\, entendràs què li passa al teu cos quan es troba dins de l’aigua o que el teu company/a de busseig és la primera mesura de seguretat.
URL:https://www.planctondiving.cat/event/curs-open-water-diver-43/
LOCATION:Plàncton Diving\, c/ Númer vint-i-tres\, 284\, Urb. Les Tres Cales – L’Ametlla de Mar\, Tarragona\, Espanya
CATEGORIES:Cursos,Submarinisme
ATTACH;FMTTYPE=image/jpeg:https://www.planctondiving.cat/wp-content/uploads/2020/09/owd.jpg
END:VEVENT
BEGIN:VEVENT
DTSTART;TZID=Europe/Helsinki:20240525T080000
DTEND;TZID=Europe/Helsinki:20240525T170000
DTSTAMP:20260423T115628
CREATED:20240303T173910Z
LAST-MODIFIED:20240303T173957Z
UID:8858-1716624000-1716656400@www.planctondiving.cat
SUMMARY:Curs d'Introducció a la Biologia Marina
DESCRIPTION:Més informació del curs de Biologia Marina
URL:https://www.planctondiving.cat/event/curs-dintroduccio-a-la-biologia-marina-7/
LOCATION:Tarragona
END:VEVENT
BEGIN:VEVENT
DTSTART;TZID=Europe/Helsinki:20240525T153000
DTEND;TZID=Europe/Helsinki:20240525T203000
DTSTAMP:20260423T115628
CREATED:20240303T174048Z
LAST-MODIFIED:20240303T174122Z
UID:8860-1716651000-1716669000@www.planctondiving.cat
SUMMARY:Ecologia Marina
DESCRIPTION:Com a tots els cursos de la nostra certificadora de busseig SSI\, tindràs a la teva disposició la teoria per a estudiar-la online des de qualsevol lloc del planeta\, al teu ritme i en l’idioma que desitgis. Aquesta formació es veurà complementada per dos sessions de teoria sobre l’Ecologia Marina del Mar Mediterrani – perquè entendre el que tenim més a prop\, afavoreixen els canvis d’hàbits per a conservar-lo- que es realitzaran via la plataforma Zoom o prensecialment. \nMés info
URL:https://www.planctondiving.cat/event/ecologia-marina-6/
LOCATION:Tarragona
END:VEVENT
BEGIN:VEVENT
DTSTART;TZID=Europe/Helsinki:20240525T170000
DTEND;TZID=Europe/Helsinki:20240525T233000
DTSTAMP:20260423T115628
CREATED:20240303T174217Z
LAST-MODIFIED:20240303T174249Z
UID:8863-1716656400-1716679800@www.planctondiving.cat
SUMMARY:Busseig nocturn i visibilitat reduïda
DESCRIPTION:Amb el curs de busseig nocturn i visibilitat reduida les teves immersions no s’acabaran quan es posa el sol\, o quan l’aigua no sigui totalment transparent o si vols bussejar en una pedrera on en un llac. \nMés info aquí
URL:https://www.planctondiving.cat/event/busseig-nocturn-i-visibilitat-reduida-21/
LOCATION:Tarragona
ATTACH;FMTTYPE=image/jpeg:https://www.planctondiving.cat/wp-content/uploads/2020/09/night-limited-visibility.jpg
END:VEVENT
END:VCALENDAR