BEGIN:VCALENDAR
VERSION:2.0
PRODID:-//Plancton Diving - ECPv6.15.18//NONSGML v1.0//EN
CALSCALE:GREGORIAN
METHOD:PUBLISH
X-ORIGINAL-URL:https://www.planctondiving.cat
X-WR-CALDESC:Esdeveniments per Plancton Diving
REFRESH-INTERVAL;VALUE=DURATION:PT1H
X-Robots-Tag:noindex
X-PUBLISHED-TTL:PT1H
BEGIN:VTIMEZONE
TZID:Europe/Helsinki
BEGIN:DAYLIGHT
TZOFFSETFROM:+0200
TZOFFSETTO:+0300
TZNAME:EEST
DTSTART:20240331T010000
END:DAYLIGHT
BEGIN:STANDARD
TZOFFSETFROM:+0300
TZOFFSETTO:+0200
TZNAME:EET
DTSTART:20241027T010000
END:STANDARD
BEGIN:DAYLIGHT
TZOFFSETFROM:+0200
TZOFFSETTO:+0300
TZNAME:EEST
DTSTART:20250330T010000
END:DAYLIGHT
BEGIN:STANDARD
TZOFFSETFROM:+0300
TZOFFSETTO:+0200
TZNAME:EET
DTSTART:20251026T010000
END:STANDARD
BEGIN:DAYLIGHT
TZOFFSETFROM:+0200
TZOFFSETTO:+0300
TZNAME:EEST
DTSTART:20260329T010000
END:DAYLIGHT
BEGIN:STANDARD
TZOFFSETFROM:+0300
TZOFFSETTO:+0200
TZNAME:EET
DTSTART:20261025T010000
END:STANDARD
END:VTIMEZONE
BEGIN:VEVENT
DTSTART;TZID=Europe/Helsinki:20250724T170000
DTEND;TZID=Europe/Helsinki:20250724T233000
DTSTAMP:20260422T032224
CREATED:20240314T094405Z
LAST-MODIFIED:20250128T202914Z
UID:9021-1753376400-1753399800@www.planctondiving.cat
SUMMARY:Busseig nocturn i visibilitat reduïda
DESCRIPTION:Amb el curs de busseig nocturn i visibilitat reduida les teves immersions no s’acabaran quan es posa el sol\, o quan l’aigua no sigui totalment transparent o si vols bussejar en una pedrera on en un llac. \nMés info aquí
URL:https://www.planctondiving.cat/event/busseig-nocturn-i-visibilitat-reduida-26/
LOCATION:Tarragona
ATTACH;FMTTYPE=image/jpeg:https://www.planctondiving.cat/wp-content/uploads/2020/09/night-limited-visibility.jpg
END:VEVENT
END:VCALENDAR