BEGIN:VCALENDAR
VERSION:2.0
PRODID:-//Plancton Diving - ECPv6.15.18//NONSGML v1.0//EN
CALSCALE:GREGORIAN
METHOD:PUBLISH
X-WR-CALNAME:Plancton Diving
X-ORIGINAL-URL:https://www.planctondiving.cat
X-WR-CALDESC:Esdeveniments per Plancton Diving
REFRESH-INTERVAL;VALUE=DURATION:PT1H
X-Robots-Tag:noindex
X-PUBLISHED-TTL:PT1H
BEGIN:VTIMEZONE
TZID:Europe/Helsinki
BEGIN:DAYLIGHT
TZOFFSETFROM:+0200
TZOFFSETTO:+0300
TZNAME:EEST
DTSTART:20210328T010000
END:DAYLIGHT
BEGIN:STANDARD
TZOFFSETFROM:+0300
TZOFFSETTO:+0200
TZNAME:EET
DTSTART:20211031T010000
END:STANDARD
BEGIN:DAYLIGHT
TZOFFSETFROM:+0200
TZOFFSETTO:+0300
TZNAME:EEST
DTSTART:20220327T010000
END:DAYLIGHT
BEGIN:STANDARD
TZOFFSETFROM:+0300
TZOFFSETTO:+0200
TZNAME:EET
DTSTART:20221030T010000
END:STANDARD
BEGIN:DAYLIGHT
TZOFFSETFROM:+0200
TZOFFSETTO:+0300
TZNAME:EEST
DTSTART:20230326T010000
END:DAYLIGHT
BEGIN:STANDARD
TZOFFSETFROM:+0300
TZOFFSETTO:+0200
TZNAME:EET
DTSTART:20231029T010000
END:STANDARD
END:VTIMEZONE
BEGIN:VEVENT
DTSTART;TZID=Europe/Helsinki:20220930T080000
DTEND;TZID=Europe/Helsinki:20221002T140000
DTSTAMP:20260425T173840
CREATED:20210426T022642Z
LAST-MODIFIED:20211203T185044Z
UID:3403-1664524800-1664719200@www.planctondiving.cat
SUMMARY:Curs Open Water Diver
DESCRIPTION:Si has arribat fins aquesta pàgina és que comences a tenir el “cuquet” del busseig dins teu. Potser ja has fet algun bateig de submarinisme (o no\, no és imprescindible) i ja saps que això de respirar sota l’aigua i que la sensació de “volar” per dins de l’aigua t’agrada. \nEfectivament\, el següent pas en el món del busseig es aquest curs d’iniciació que et presentem aquí: l’Open Water Diver. \nL’Open Water Diver serà el curs que t’obrirà les portes al món submarí i durant aquestes hores de classes teòriques i pràctiques aprendràs conceptes bàsics de seguretat\, sobre els equips\, flotabilitat\, entendràs què li passa al teu cos quan es troba dins de l’aigua o que el teu company/a de busseig és la primera mesura de seguretat.
URL:https://www.planctondiving.cat/event/curs-open-warer-diver/
LOCATION:Plàncton Diving\, c/ Númer vint-i-tres\, 284\, Urb. Les Tres Cales – L’Ametlla de Mar\, Tarragona\, Espanya
CATEGORIES:Cursos,Submarinisme
ATTACH;FMTTYPE=image/jpeg:https://www.planctondiving.cat/wp-content/uploads/2020/09/owd.jpg
END:VEVENT
BEGIN:VEVENT
DTSTART;TZID=Europe/Helsinki:20221014T080000
DTEND;TZID=Europe/Helsinki:20221016T140000
DTSTAMP:20260425T173840
CREATED:20210426T022557Z
LAST-MODIFIED:20211203T185136Z
UID:3401-1665734400-1665928800@www.planctondiving.cat
SUMMARY:Curs Open Water Diver
DESCRIPTION:Si has arribat fins aquesta pàgina és que comences a tenir el “cuquet” del busseig dins teu. Potser ja has fet algun bateig de submarinisme (o no\, no és imprescindible) i ja saps que això de respirar sota l’aigua i que la sensació de “volar” per dins de l’aigua t’agrada. \nEfectivament\, el següent pas en el món del busseig es aquest curs d’iniciació que et presentem aquí: l’Open Water Diver. \nL’Open Water Diver serà el curs que t’obrirà les portes al món submarí i durant aquestes hores de classes teòriques i pràctiques aprendràs conceptes bàsics de seguretat\, sobre els equips\, flotabilitat\, entendràs què li passa al teu cos quan es troba dins de l’aigua o que el teu company/a de busseig és la primera mesura de seguretat.
URL:https://www.planctondiving.cat/event/curs-open-water-diver-2/
LOCATION:Plàncton Diving\, c/ Númer vint-i-tres\, 284\, Urb. Les Tres Cales – L’Ametlla de Mar\, Tarragona\, Espanya
CATEGORIES:Cursos,Submarinisme
ATTACH;FMTTYPE=image/jpeg:https://www.planctondiving.cat/wp-content/uploads/2020/09/owd.jpg
END:VEVENT
BEGIN:VEVENT
DTSTART;TZID=Europe/Helsinki:20221015T080000
DTEND;TZID=Europe/Helsinki:20221015T140000
DTSTAMP:20260425T173840
CREATED:20220216T134039Z
LAST-MODIFIED:20220216T134100Z
UID:5193-1665820800-1665842400@www.planctondiving.cat
SUMMARY:Curs de Flotabilitat
DESCRIPTION:Aquest curs de flotabilitat és ALTAMENT recomanble si t’acabes de treure el títul d’Open Water Diver i vols millorar la seva flotabilitat i posició dins de l’aigua. \nDurant el curs\, faras un correcte entrenament i pràctica que t’ajudaran a guanyar comoditat sota l’aigua i disminuir el teu consum d’aire. A més\, amb una bona flotabilitat evitaràs malmetre la fauna i flora i evitaràs aixecar sediments que disminueixen la visibilitat dels companys i pot ser perillós per animals filtradors. \nUn bon control del teu cos sota l’aigua et permetrà guanyar en seguretat i en confiança en tu mateix\, a més de millorar la teva tècnica fotogràfica!
URL:https://www.planctondiving.cat/event/curs-de-flotabilitat-11/
LOCATION:Tarragona
CATEGORIES:Cursos,Submarinisme
ATTACH;FMTTYPE=image/jpeg:https://www.planctondiving.cat/wp-content/uploads/2020/09/107-Perfect-Bouyancy.jpg
END:VEVENT
BEGIN:VEVENT
DTSTART;TZID=Europe/Helsinki:20221016T080000
DTEND;TZID=Europe/Helsinki:20221016T170000
DTSTAMP:20260425T173840
CREATED:20220217T073637Z
LAST-MODIFIED:20220217T073657Z
UID:5240-1665907200-1665939600@www.planctondiving.cat
SUMMARY:Curs d'Orientació
DESCRIPTION:La realització del curs d’orientació submarina és una formació necessària com a bussejador novel que vol guanyar en experiència i comoditat sota l’aigua. No et conformis amb seguir al teu guia de busseig\, aprendre a orientar-te sota l’aigua pot resultar molt útil si us perdeu del grup o teniu una emergència i cal tornar al barco o al punt d’inici de la immersió. Si saps orientar-te\, augmentarà la teva comoditat i confiança durant les teves aventures sota l’aigua. \nDurant el curs d’orientació submarina aprendràs a utilitzar elements naturals com ara el sol\, la fondària o la sorra del fons. Aprendràs a fer servir la bruixula com a element d’orientació i a calcular rumbs.
URL:https://www.planctondiving.cat/event/curs-dorientacio-7/
LOCATION:Plàncton Diving\, c/ Númer vint-i-tres\, 284\, Urb. Les Tres Cales – L’Ametlla de Mar\, Tarragona\, Espanya
CATEGORIES:Cursos,Submarinisme
ATTACH;FMTTYPE=image/jpeg:https://www.planctondiving.cat/wp-content/uploads/2020/09/orientacio.jpg
END:VEVENT
BEGIN:VEVENT
DTSTART;TZID=Europe/Helsinki:20221022T090000
DTEND;TZID=Europe/Helsinki:20221023T140000
DTSTAMP:20260425T173840
CREATED:20220216T134603Z
LAST-MODIFIED:20220216T134644Z
UID:5203-1666429200-1666533600@www.planctondiving.cat
SUMMARY:Deep diving course
DESCRIPTION:La zona d’immersió més atractiva és segurament la de poca profunditat\, on arriba millor la llum i hi ha més vida. Però també podem trobar immersions molt interessants en la franja més profunda fins als 40 metres on podem trobar  derelictes\, camps de gorgònies o fauna menys castigada per la pesca. \nSense la formació adequada\, aquest tipus de busseig pot posar-te en perill. Per planificar les immersions de forma correcta\, primer has de conèixer com prevenir qualsevol dels riscos potencials implicats en el busseig profund. Aquest curs et proporcionarà la experiència necessària per fer que les teves immersions de busseig profund siguin fàcils i segures. \nDurant el curs aprendràs sobre  de l’equip\, les habilitats\, el coneixement i l’experiència necessària per poder realitzar immersions profundes recreatives fins als 40 metres de profunditat de forma segura.
URL:https://www.planctondiving.cat/event/deep-diving-course-6/
LOCATION:Plàncton Diving\, c/ Númer vint-i-tres\, 284\, Urb. Les Tres Cales – L’Ametlla de Mar\, Tarragona\, Espanya
CATEGORIES:Cursos,Submarinisme
ATTACH;FMTTYPE=image/jpeg:https://www.planctondiving.cat/wp-content/uploads/2020/09/deep.jpg
END:VEVENT
END:VCALENDAR