BEGIN:VCALENDAR
VERSION:2.0
PRODID:-//Plancton Diving - ECPv6.15.18//NONSGML v1.0//EN
CALSCALE:GREGORIAN
METHOD:PUBLISH
X-WR-CALNAME:Plancton Diving
X-ORIGINAL-URL:https://www.planctondiving.cat
X-WR-CALDESC:Esdeveniments per Plancton Diving
REFRESH-INTERVAL;VALUE=DURATION:PT1H
X-Robots-Tag:noindex
X-PUBLISHED-TTL:PT1H
BEGIN:VTIMEZONE
TZID:Europe/Helsinki
BEGIN:DAYLIGHT
TZOFFSETFROM:+0200
TZOFFSETTO:+0300
TZNAME:EEST
DTSTART:20220327T010000
END:DAYLIGHT
BEGIN:STANDARD
TZOFFSETFROM:+0300
TZOFFSETTO:+0200
TZNAME:EET
DTSTART:20221030T010000
END:STANDARD
BEGIN:DAYLIGHT
TZOFFSETFROM:+0200
TZOFFSETTO:+0300
TZNAME:EEST
DTSTART:20230326T010000
END:DAYLIGHT
BEGIN:STANDARD
TZOFFSETFROM:+0300
TZOFFSETTO:+0200
TZNAME:EET
DTSTART:20231029T010000
END:STANDARD
BEGIN:DAYLIGHT
TZOFFSETFROM:+0200
TZOFFSETTO:+0300
TZNAME:EEST
DTSTART:20240331T010000
END:DAYLIGHT
BEGIN:STANDARD
TZOFFSETFROM:+0300
TZOFFSETTO:+0200
TZNAME:EET
DTSTART:20241027T010000
END:STANDARD
END:VTIMEZONE
BEGIN:VEVENT
DTSTART;TZID=Europe/Helsinki:20230901T160000
DTEND;TZID=Europe/Helsinki:20230901T200000
DTSTAMP:20260420T142752
CREATED:20230201T102626Z
LAST-MODIFIED:20230201T102729Z
UID:7433-1693584000-1693598400@www.planctondiving.cat
SUMMARY:Nitrox 40
DESCRIPTION:El curs de busseig amb nitrox està pensat per a tu si ets un professional del busseig que fa moltes immersions en un dia\, o si tens previst de fer un viatge de busseig i aprofitar totes les immersions possibles\, en un vida a bord. Aquests coneixements et resultaràn imprescindibles si les teves inmersions es queden curtes i necessites més temps sense descompressió o descompressions més curtes. \nAl programa d’Aire Enriquit Nitrox aprenderàs com planificar i bussejar de forma segura amb barreges d’aire enriquit amb oxigen. El busseig amb aire enriquit pot augmentar els teus límits sense descompressió\, augmentar la teva seguretat\, i reduir el temps necessari dels teus intervals de superfície comparats amb aire.
URL:https://www.planctondiving.cat/event/nitrox-40-5/
LOCATION:Plàncton Diving\, c/ Númer vint-i-tres\, 284\, Urb. Les Tres Cales – L’Ametlla de Mar\, Tarragona\, Espanya
CATEGORIES:Cursos,Submarinisme
END:VEVENT
BEGIN:VEVENT
DTSTART;TZID=Europe/Helsinki:20230902T090000
DTEND;TZID=Europe/Helsinki:20230903T140000
DTSTAMP:20260420T142752
CREATED:20230129T215805Z
LAST-MODIFIED:20230129T215805Z
UID:7413-1693645200-1693749600@www.planctondiving.cat
SUMMARY:Deep diving course
DESCRIPTION:La zona d’immersió més atractiva és segurament la de poca profunditat\, on arriba millor la llum i hi ha més vida. Però també podem trobar immersions molt interessants en la franja més profunda fins als 40 metres on podem trobar  derelictes\, camps de gorgònies o fauna menys castigada per la pesca. \nSense la formació adequada\, aquest tipus de busseig pot posar-te en perill. Per planificar les immersions de forma correcta\, primer has de conèixer com prevenir qualsevol dels riscos potencials implicats en el busseig profund. Aquest curs et proporcionarà la experiència necessària per fer que les teves immersions de busseig profund siguin fàcils i segures. \nDurant el curs aprendràs sobre  de l’equip\, les habilitats\, el coneixement i l’experiència necessària per poder realitzar immersions profundes recreatives fins als 40 metres de profunditat de forma segura. \nMés info aquí
URL:https://www.planctondiving.cat/event/deep-diving-course-16/
LOCATION:Plàncton Diving\, c/ Númer vint-i-tres\, 284\, Urb. Les Tres Cales – L’Ametlla de Mar\, Tarragona\, Espanya
CATEGORIES:Cursos,Submarinisme
ATTACH;FMTTYPE=image/jpeg:https://www.planctondiving.cat/wp-content/uploads/2020/09/deep.jpg
END:VEVENT
BEGIN:VEVENT
DTSTART;TZID=Europe/Helsinki:20230907T150000
DTEND;TZID=Europe/Helsinki:20230907T200000
DTSTAMP:20260420T142752
CREATED:20230201T104112Z
LAST-MODIFIED:20230201T104112Z
UID:7455-1694098800-1694116800@www.planctondiving.cat
SUMMARY:Curs d'Orientació
DESCRIPTION:La realització del curs d’orientació submarina és una formació necessària com a bussejador novel que vol guanyar en experiència i comoditat sota l’aigua. No et conformis amb seguir al teu guia de busseig\, aprendre a orientar-te sota l’aigua pot resultar molt útil si us perdeu del grup o teniu una emergència i cal tornar al barco o al punt d’inici de la immersió. Si saps orientar-te\, augmentarà la teva comoditat i confiança durant les teves aventures sota l’aigua. \nDurant el curs d’orientació submarina aprendràs a utilitzar elements naturals com ara el sol\, la fondària o la sorra del fons. Aprendràs a fer servir la bruixula com a element d’orientació i a calcular rumbs.
URL:https://www.planctondiving.cat/event/curs-dorientacio-11/
LOCATION:Plàncton Diving\, c/ Númer vint-i-tres\, 284\, Urb. Les Tres Cales – L’Ametlla de Mar\, Tarragona\, Espanya
CATEGORIES:Cursos,Submarinisme
ATTACH;FMTTYPE=image/jpeg:https://www.planctondiving.cat/wp-content/uploads/2020/09/orientacio.jpg
END:VEVENT
BEGIN:VEVENT
DTSTART;TZID=Europe/Helsinki:20230908T090000
DTEND;TZID=Europe/Helsinki:20230910T190000
DTSTAMP:20260420T142752
CREATED:20230129T214131Z
LAST-MODIFIED:20230129T214131Z
UID:7371-1694163600-1694372400@www.planctondiving.cat
SUMMARY:Curs Open Water Diver
DESCRIPTION:Si has arribat fins aquesta pàgina és que comences a tenir el “cuquet” del busseig dins teu. Potser ja has fet algun bateig de submarinisme (o no\, no és imprescindible) i ja saps que això de respirar sota l’aigua i que la sensació de “volar” per dins de l’aigua t’agrada. \nEfectivament\, el següent pas en el món del busseig es aquest curs d’iniciació que et presentem aquí: l’Open Water Diver. \nL’Open Water Diver serà el curs que t’obrirà les portes al món submarí i durant aquestes hores de classes teòriques i pràctiques aprendràs conceptes bàsics de seguretat\, sobre els equips\, flotabilitat\, entendràs què li passa al teu cos quan es troba dins de l’aigua o que el teu company/a de busseig és la primera mesura de seguretat.
URL:https://www.planctondiving.cat/event/curs-open-water-diver-32/
LOCATION:Plàncton Diving\, c/ Númer vint-i-tres\, 284\, Urb. Les Tres Cales – L’Ametlla de Mar\, Tarragona\, Espanya
CATEGORIES:Cursos,Submarinisme
ATTACH;FMTTYPE=image/jpeg:https://www.planctondiving.cat/wp-content/uploads/2020/09/owd.jpg
END:VEVENT
BEGIN:VEVENT
DTSTART;TZID=Europe/Helsinki:20230916T090000
DTEND;TZID=Europe/Helsinki:20230917T140000
DTSTAMP:20260420T142752
CREATED:20230129T215831Z
LAST-MODIFIED:20230129T215831Z
UID:7415-1694854800-1694959200@www.planctondiving.cat
SUMMARY:Deep diving course
DESCRIPTION:La zona d’immersió més atractiva és segurament la de poca profunditat\, on arriba millor la llum i hi ha més vida. Però també podem trobar immersions molt interessants en la franja més profunda fins als 40 metres on podem trobar  derelictes\, camps de gorgònies o fauna menys castigada per la pesca. \nSense la formació adequada\, aquest tipus de busseig pot posar-te en perill. Per planificar les immersions de forma correcta\, primer has de conèixer com prevenir qualsevol dels riscos potencials implicats en el busseig profund. Aquest curs et proporcionarà la experiència necessària per fer que les teves immersions de busseig profund siguin fàcils i segures. \nDurant el curs aprendràs sobre  de l’equip\, les habilitats\, el coneixement i l’experiència necessària per poder realitzar immersions profundes recreatives fins als 40 metres de profunditat de forma segura. \nMés info aquí
URL:https://www.planctondiving.cat/event/deep-diving-course-17/
LOCATION:Plàncton Diving\, c/ Númer vint-i-tres\, 284\, Urb. Les Tres Cales – L’Ametlla de Mar\, Tarragona\, Espanya
CATEGORIES:Cursos,Submarinisme
ATTACH;FMTTYPE=image/jpeg:https://www.planctondiving.cat/wp-content/uploads/2020/09/deep.jpg
END:VEVENT
BEGIN:VEVENT
DTSTART;TZID=Europe/Helsinki:20230922T090000
DTEND;TZID=Europe/Helsinki:20230924T190000
DTSTAMP:20260420T142752
CREATED:20230129T214155Z
LAST-MODIFIED:20230129T214155Z
UID:7373-1695373200-1695582000@www.planctondiving.cat
SUMMARY:Curs Open Water Diver
DESCRIPTION:Si has arribat fins aquesta pàgina és que comences a tenir el “cuquet” del busseig dins teu. Potser ja has fet algun bateig de submarinisme (o no\, no és imprescindible) i ja saps que això de respirar sota l’aigua i que la sensació de “volar” per dins de l’aigua t’agrada. \nEfectivament\, el següent pas en el món del busseig es aquest curs d’iniciació que et presentem aquí: l’Open Water Diver. \nL’Open Water Diver serà el curs que t’obrirà les portes al món submarí i durant aquestes hores de classes teòriques i pràctiques aprendràs conceptes bàsics de seguretat\, sobre els equips\, flotabilitat\, entendràs què li passa al teu cos quan es troba dins de l’aigua o que el teu company/a de busseig és la primera mesura de seguretat.
URL:https://www.planctondiving.cat/event/curs-open-water-diver-33/
LOCATION:Plàncton Diving\, c/ Númer vint-i-tres\, 284\, Urb. Les Tres Cales – L’Ametlla de Mar\, Tarragona\, Espanya
CATEGORIES:Cursos,Submarinisme
ATTACH;FMTTYPE=image/jpeg:https://www.planctondiving.cat/wp-content/uploads/2020/09/owd.jpg
END:VEVENT
END:VCALENDAR