BEGIN:VCALENDAR
VERSION:2.0
PRODID:-//Plancton Diving - ECPv6.15.18//NONSGML v1.0//EN
CALSCALE:GREGORIAN
METHOD:PUBLISH
X-WR-CALNAME:Plancton Diving
X-ORIGINAL-URL:https://www.planctondiving.cat
X-WR-CALDESC:Esdeveniments per Plancton Diving
REFRESH-INTERVAL;VALUE=DURATION:PT1H
X-Robots-Tag:noindex
X-PUBLISHED-TTL:PT1H
BEGIN:VTIMEZONE
TZID:Europe/Helsinki
BEGIN:DAYLIGHT
TZOFFSETFROM:+0200
TZOFFSETTO:+0300
TZNAME:EEST
DTSTART:20220327T010000
END:DAYLIGHT
BEGIN:STANDARD
TZOFFSETFROM:+0300
TZOFFSETTO:+0200
TZNAME:EET
DTSTART:20221030T010000
END:STANDARD
BEGIN:DAYLIGHT
TZOFFSETFROM:+0200
TZOFFSETTO:+0300
TZNAME:EEST
DTSTART:20230326T010000
END:DAYLIGHT
BEGIN:STANDARD
TZOFFSETFROM:+0300
TZOFFSETTO:+0200
TZNAME:EET
DTSTART:20231029T010000
END:STANDARD
BEGIN:DAYLIGHT
TZOFFSETFROM:+0200
TZOFFSETTO:+0300
TZNAME:EEST
DTSTART:20240331T010000
END:DAYLIGHT
BEGIN:STANDARD
TZOFFSETFROM:+0300
TZOFFSETTO:+0200
TZNAME:EET
DTSTART:20241027T010000
END:STANDARD
END:VTIMEZONE
BEGIN:VEVENT
DTSTART;TZID=Europe/Helsinki:20230616T153000
DTEND;TZID=Europe/Helsinki:20230618T190000
DTSTAMP:20260423T172420
CREATED:20230426T075914Z
LAST-MODIFIED:20230426T075949Z
UID:7352-1686929400-1687114800@www.planctondiving.cat
SUMMARY:Curs Open Water Diver
DESCRIPTION:Si has arribat fins aquesta pàgina és que comences a tenir el “cuquet” del busseig dins teu. Potser ja has fet algun bateig de submarinisme (o no\, no és imprescindible) i ja saps que això de respirar sota l’aigua i que la sensació de “volar” per dins de l’aigua t’agrada. \nEfectivament\, el següent pas en el món del busseig es aquest curs d’iniciació que et presentem aquí: l’Open Water Diver. \nL’Open Water Diver serà el curs que t’obrirà les portes al món submarí i durant aquestes hores de classes teòriques i pràctiques aprendràs conceptes bàsics de seguretat\, sobre els equips\, flotabilitat\, entendràs què li passa al teu cos quan es troba dins de l’aigua o que el teu company/a de busseig és la primera mesura de seguretat.
URL:https://www.planctondiving.cat/event/curs-open-water-diver-36/
LOCATION:Plàncton Diving\, c/ Númer vint-i-tres\, 284\, Urb. Les Tres Cales – L’Ametlla de Mar\, Tarragona\, Espanya
CATEGORIES:Cursos,Submarinisme
ATTACH;FMTTYPE=image/jpeg:https://www.planctondiving.cat/wp-content/uploads/2020/09/owd.jpg
END:VEVENT
BEGIN:VEVENT
DTSTART;TZID=Europe/Helsinki:20230617T090000
DTEND;TZID=Europe/Helsinki:20230618T140000
DTSTAMP:20260423T172420
CREATED:20230129T215550Z
LAST-MODIFIED:20230129T215550Z
UID:7405-1686992400-1687096800@www.planctondiving.cat
SUMMARY:Deep diving course
DESCRIPTION:La zona d’immersió més atractiva és segurament la de poca profunditat\, on arriba millor la llum i hi ha més vida. Però també podem trobar immersions molt interessants en la franja més profunda fins als 40 metres on podem trobar  derelictes\, camps de gorgònies o fauna menys castigada per la pesca. \nSense la formació adequada\, aquest tipus de busseig pot posar-te en perill. Per planificar les immersions de forma correcta\, primer has de conèixer com prevenir qualsevol dels riscos potencials implicats en el busseig profund. Aquest curs et proporcionarà la experiència necessària per fer que les teves immersions de busseig profund siguin fàcils i segures. \nDurant el curs aprendràs sobre  de l’equip\, les habilitats\, el coneixement i l’experiència necessària per poder realitzar immersions profundes recreatives fins als 40 metres de profunditat de forma segura. \nMés info aquí
URL:https://www.planctondiving.cat/event/deep-diving-course-12/
LOCATION:Plàncton Diving\, c/ Númer vint-i-tres\, 284\, Urb. Les Tres Cales – L’Ametlla de Mar\, Tarragona\, Espanya
CATEGORIES:Cursos,Submarinisme
ATTACH;FMTTYPE=image/jpeg:https://www.planctondiving.cat/wp-content/uploads/2020/09/deep.jpg
END:VEVENT
END:VCALENDAR