BEGIN:VCALENDAR
VERSION:2.0
PRODID:-//Plancton Diving - ECPv6.15.18//NONSGML v1.0//EN
CALSCALE:GREGORIAN
METHOD:PUBLISH
X-ORIGINAL-URL:https://www.planctondiving.cat
X-WR-CALDESC:Esdeveniments per Plancton Diving
REFRESH-INTERVAL;VALUE=DURATION:PT1H
X-Robots-Tag:noindex
X-PUBLISHED-TTL:PT1H
BEGIN:VTIMEZONE
TZID:Europe/Helsinki
BEGIN:DAYLIGHT
TZOFFSETFROM:+0200
TZOFFSETTO:+0300
TZNAME:EEST
DTSTART:20220327T010000
END:DAYLIGHT
BEGIN:STANDARD
TZOFFSETFROM:+0300
TZOFFSETTO:+0200
TZNAME:EET
DTSTART:20221030T010000
END:STANDARD
BEGIN:DAYLIGHT
TZOFFSETFROM:+0200
TZOFFSETTO:+0300
TZNAME:EEST
DTSTART:20230326T010000
END:DAYLIGHT
BEGIN:STANDARD
TZOFFSETFROM:+0300
TZOFFSETTO:+0200
TZNAME:EET
DTSTART:20231029T010000
END:STANDARD
BEGIN:DAYLIGHT
TZOFFSETFROM:+0200
TZOFFSETTO:+0300
TZNAME:EEST
DTSTART:20240331T010000
END:DAYLIGHT
BEGIN:STANDARD
TZOFFSETFROM:+0300
TZOFFSETTO:+0200
TZNAME:EET
DTSTART:20241027T010000
END:STANDARD
END:VTIMEZONE
BEGIN:VEVENT
DTSTART;VALUE=DATE:20230801
DTEND;VALUE=DATE:20230806
DTSTAMP:20260422T151946
CREATED:20230627T154121Z
LAST-MODIFIED:20230627T154847Z
UID:7937-1690848000-1691279999@www.planctondiving.cat
SUMMARY:Foundations
DESCRIPTION:El curs de busseig Foundations és un curs d’introducció al busseig tècnic i el primer pas per passar-te al que els submarinistes anomenem “el costat fosc”. \nCom funciona el curs?\nCom tots els cursos de la nostra certificadora de busseig SSI\, tindràs a la teva disposició la teoria per estudiar-la en línia des de qualsevol lloc del planeta\, al teu ritme i en l’idioma que desitgis. A més\, tenim un grup de Facebook amb diversos vídeos que t’ha preparat el nostre instructor i director tècnic Xavi Llambrich\, perquè puguis fer les seves sessions teòriques des de casa tranquil·lament quan estiguis concentrat/da. \nAquestes són les dates del curs: \nAgost 2023: Dies 1\, 2\, 3 i 5. \nMés info aquí
URL:https://www.planctondiving.cat/event/foundations-5/
LOCATION:Tarragona
CATEGORIES:Cursos,Submarinisme
ATTACH;FMTTYPE=image/jpeg:https://www.planctondiving.cat/wp-content/uploads/2023/06/extended-27.jpg
END:VEVENT
BEGIN:VEVENT
DTSTART;TZID=Europe/Helsinki:20230804T080000
DTEND;TZID=Europe/Helsinki:20230804T140000
DTSTAMP:20260422T151946
CREATED:20230627T152158Z
LAST-MODIFIED:20230627T152247Z
UID:7929-1691136000-1691157600@www.planctondiving.cat
SUMMARY:Curs de Flotabilitat
DESCRIPTION:Aquest curs de flotabilitat és ALTAMENT recomanble si t’acabes de treure el títul d’Open Water Diver i vols millorar la seva flotabilitat i posició dins de l’aigua. \nDurant el curs\, faras un correcte entrenament i pràctica que t’ajudaran a guanyar comoditat sota l’aigua i disminuir el teu consum d’aire. A més\, amb una bona flotabilitat evitaràs malmetre la fauna i flora i evitaràs aixecar sediments que disminueixen la visibilitat dels companys i pot ser perillós per animals filtradors. \nUn bon control del teu cos sota l’aigua et permetrà guanyar en seguretat i en confiança en tu mateix\, a més de millorar la teva tècnica fotogràfica!
URL:https://www.planctondiving.cat/event/curs-de-flotabilitat-18/
LOCATION:Tarragona
CATEGORIES:Cursos,Submarinisme
ATTACH;FMTTYPE=image/jpeg:https://www.planctondiving.cat/wp-content/uploads/2020/09/107-Perfect-Bouyancy.jpg
END:VEVENT
END:VCALENDAR