BEGIN:VCALENDAR
VERSION:2.0
PRODID:-//Plancton Diving - ECPv6.15.18//NONSGML v1.0//EN
CALSCALE:GREGORIAN
METHOD:PUBLISH
X-ORIGINAL-URL:https://www.planctondiving.cat
X-WR-CALDESC:Esdeveniments per Plancton Diving
REFRESH-INTERVAL;VALUE=DURATION:PT1H
X-Robots-Tag:noindex
X-PUBLISHED-TTL:PT1H
BEGIN:VTIMEZONE
TZID:Europe/Helsinki
BEGIN:DAYLIGHT
TZOFFSETFROM:+0200
TZOFFSETTO:+0300
TZNAME:EEST
DTSTART:20220327T010000
END:DAYLIGHT
BEGIN:STANDARD
TZOFFSETFROM:+0300
TZOFFSETTO:+0200
TZNAME:EET
DTSTART:20221030T010000
END:STANDARD
BEGIN:DAYLIGHT
TZOFFSETFROM:+0200
TZOFFSETTO:+0300
TZNAME:EEST
DTSTART:20230326T010000
END:DAYLIGHT
BEGIN:STANDARD
TZOFFSETFROM:+0300
TZOFFSETTO:+0200
TZNAME:EET
DTSTART:20231029T010000
END:STANDARD
BEGIN:DAYLIGHT
TZOFFSETFROM:+0200
TZOFFSETTO:+0300
TZNAME:EEST
DTSTART:20240331T010000
END:DAYLIGHT
BEGIN:STANDARD
TZOFFSETFROM:+0300
TZOFFSETTO:+0200
TZNAME:EET
DTSTART:20241027T010000
END:STANDARD
END:VTIMEZONE
BEGIN:VEVENT
DTSTART;TZID=Europe/Helsinki:20230806T090000
DTEND;TZID=Europe/Helsinki:20230807T170000
DTSTAMP:20260422T142451
CREATED:20230627T110659Z
LAST-MODIFIED:20230627T152554Z
UID:7908-1691312400-1691427600@www.planctondiving.cat
SUMMARY:Stress & Rescue + React Right
DESCRIPTION:La formació d’Emergency Training inclou les dues especialitats: Stress & Rescue i React Right (primers auxilis\, oxigenoteràpia i suport vital bàsic) i està orientada a preparar-te per millorar la teva resposta davant d’un possible accident teu o d’una altra persona. \nLa formació de React Right et dóna coneixements sobre primers auxilis\, tant a terra com a mar\, suport vital bàsic i oxigenoteràpia. És imprescindible per obtenir la certificació d’Stress & Rescue. \nAquesta especialitat és IMPRESCINBLE si estàs pensant en dedicar-te professionalment al món del busseig recreatiu i és totalment RECOMANABLE per a qualsevol persona bussejadora que vulgui millorar la seva experiència de busseig.
URL:https://www.planctondiving.cat/event/stress-rescue-react-right/
LOCATION:Tarragona
CATEGORIES:Cursos,Submarinisme
ATTACH;FMTTYPE=image/jpeg:https://www.planctondiving.cat/wp-content/uploads/2023/06/stress.jpg
END:VEVENT
BEGIN:VEVENT
DTSTART;TZID=Europe/Helsinki:20230807T160000
DTEND;TZID=Europe/Helsinki:20230807T200000
DTSTAMP:20260422T142451
CREATED:20230201T102942Z
LAST-MODIFIED:20230201T102942Z
UID:7437-1691424000-1691438400@www.planctondiving.cat
SUMMARY:Nitrox 40
DESCRIPTION:El curs de busseig amb nitrox està pensat per a tu si ets un professional del busseig que fa moltes immersions en un dia\, o si tens previst de fer un viatge de busseig i aprofitar totes les immersions possibles\, en un vida a bord. Aquests coneixements et resultaràn imprescindibles si les teves inmersions es queden curtes i necessites més temps sense descompressió o descompressions més curtes. \nAl programa d’Aire Enriquit Nitrox aprenderàs com planificar i bussejar de forma segura amb barreges d’aire enriquit amb oxigen. El busseig amb aire enriquit pot augmentar els teus límits sense descompressió\, augmentar la teva seguretat\, i reduir el temps necessari dels teus intervals de superfície comparats amb aire.
URL:https://www.planctondiving.cat/event/nitrox-40-7/
LOCATION:Plàncton Diving\, c/ Númer vint-i-tres\, 284\, Urb. Les Tres Cales – L’Ametlla de Mar\, Tarragona\, Espanya
CATEGORIES:Cursos,Submarinisme
END:VEVENT
END:VCALENDAR