BEGIN:VCALENDAR
VERSION:2.0
PRODID:-//Plancton Diving - ECPv6.15.18//NONSGML v1.0//EN
CALSCALE:GREGORIAN
METHOD:PUBLISH
X-ORIGINAL-URL:https://www.planctondiving.cat
X-WR-CALDESC:Esdeveniments per Plancton Diving
REFRESH-INTERVAL;VALUE=DURATION:PT1H
X-Robots-Tag:noindex
X-PUBLISHED-TTL:PT1H
BEGIN:VTIMEZONE
TZID:Europe/Helsinki
BEGIN:DAYLIGHT
TZOFFSETFROM:+0200
TZOFFSETTO:+0300
TZNAME:EEST
DTSTART:20220327T010000
END:DAYLIGHT
BEGIN:STANDARD
TZOFFSETFROM:+0300
TZOFFSETTO:+0200
TZNAME:EET
DTSTART:20221030T010000
END:STANDARD
BEGIN:DAYLIGHT
TZOFFSETFROM:+0200
TZOFFSETTO:+0300
TZNAME:EEST
DTSTART:20230326T010000
END:DAYLIGHT
BEGIN:STANDARD
TZOFFSETFROM:+0300
TZOFFSETTO:+0200
TZNAME:EET
DTSTART:20231029T010000
END:STANDARD
BEGIN:DAYLIGHT
TZOFFSETFROM:+0200
TZOFFSETTO:+0300
TZNAME:EEST
DTSTART:20240331T010000
END:DAYLIGHT
BEGIN:STANDARD
TZOFFSETFROM:+0300
TZOFFSETTO:+0200
TZNAME:EET
DTSTART:20241027T010000
END:STANDARD
END:VTIMEZONE
BEGIN:VEVENT
DTSTART;TZID=Europe/Helsinki:20231014T080000
DTEND;TZID=Europe/Helsinki:20231014T170000
DTSTAMP:20260420T143738
CREATED:20230201T103600Z
LAST-MODIFIED:20230201T103600Z
UID:7445-1697270400-1697302800@www.planctondiving.cat
SUMMARY:Revisió d'equips
DESCRIPTION:Cuida del teu equip i el teu equip cuidarà de tu! Si som propietaris d’un equip de busseig hem de ser responsables del seu bon us ja que d’això depèn la nostra seguretat\,  amb un manteniment adequat\, augmenta el teu gaudiment del busseig i contribueix a la teva comoditat i confiança. Aquest programa et proporciona les habilitats\, el coneixement i l’experiència per poder mantenir el  teu equip adequadament\, tant després de cada immersió com en la preparació de l’hivernat\, que assegurin que podràs gaudir del teu equip lo màxim possible.
URL:https://www.planctondiving.cat/event/revisio-dequips-4/
LOCATION:Plàncton Diving\, c/ Númer vint-i-tres\, 284\, Urb. Les Tres Cales – L’Ametlla de Mar\, Tarragona\, Espanya
CATEGORIES:Cursos,Submarinisme
END:VEVENT
END:VCALENDAR