BEGIN:VCALENDAR
VERSION:2.0
PRODID:-//Plancton Diving - ECPv6.15.18//NONSGML v1.0//EN
CALSCALE:GREGORIAN
METHOD:PUBLISH
X-ORIGINAL-URL:https://www.planctondiving.cat
X-WR-CALDESC:Esdeveniments per Plancton Diving
REFRESH-INTERVAL;VALUE=DURATION:PT1H
X-Robots-Tag:noindex
X-PUBLISHED-TTL:PT1H
BEGIN:VTIMEZONE
TZID:Europe/Helsinki
BEGIN:DAYLIGHT
TZOFFSETFROM:+0200
TZOFFSETTO:+0300
TZNAME:EEST
DTSTART:20250330T010000
END:DAYLIGHT
BEGIN:STANDARD
TZOFFSETFROM:+0300
TZOFFSETTO:+0200
TZNAME:EET
DTSTART:20251026T010000
END:STANDARD
BEGIN:DAYLIGHT
TZOFFSETFROM:+0200
TZOFFSETTO:+0300
TZNAME:EEST
DTSTART:20260329T010000
END:DAYLIGHT
BEGIN:STANDARD
TZOFFSETFROM:+0300
TZOFFSETTO:+0200
TZNAME:EET
DTSTART:20261025T010000
END:STANDARD
BEGIN:DAYLIGHT
TZOFFSETFROM:+0200
TZOFFSETTO:+0300
TZNAME:EEST
DTSTART:20270328T010000
END:DAYLIGHT
BEGIN:STANDARD
TZOFFSETFROM:+0300
TZOFFSETTO:+0200
TZNAME:EET
DTSTART:20271031T010000
END:STANDARD
END:VTIMEZONE
BEGIN:VEVENT
DTSTART;TZID=Europe/Helsinki:20260711T090000
DTEND;TZID=Europe/Helsinki:20260711T140000
DTSTAMP:20260423T152457
CREATED:20240314T092918Z
LAST-MODIFIED:20260423T110800Z
UID:9009-1783760400-1783778400@www.planctondiving.cat
SUMMARY:Curs de Flotabilitat
DESCRIPTION:Aquest curs de flotabilitat és ALTAMENT recomanble si t’acabes de treure el títul d’Open Water Diver i vols millorar la seva flotabilitat i posició dins de l’aigua. \nDurant el curs\, faras un correcte entrenament i pràctica que t’ajudaran a guanyar comoditat sota l’aigua i disminuir el teu consum d’aire. A més\, amb una bona flotabilitat evitaràs malmetre la fauna i flora i evitaràs aixecar sediments que disminueixen la visibilitat dels companys i pot ser perillós per animals filtradors. \nUn bon control del teu cos sota l’aigua et permetrà guanyar en seguretat i en confiança en tu mateix\, a més de millorar la teva tècnica fotogràfica!
URL:https://www.planctondiving.cat/event/curs-de-flotabilitat-25/
LOCATION:Tarragona
CATEGORIES:Cursos,Submarinisme
ATTACH;FMTTYPE=image/jpeg:https://www.planctondiving.cat/wp-content/uploads/2020/09/107-Perfect-Bouyancy.jpg
END:VEVENT
BEGIN:VEVENT
DTSTART;TZID=Europe/Helsinki:20260713T080000
DTEND;TZID=Europe/Helsinki:20260714T140000
DTSTAMP:20260423T152457
CREATED:20240314T094038Z
LAST-MODIFIED:20260423T111007Z
UID:9019-1783929600-1784037600@www.planctondiving.cat
SUMMARY:Sidemount
DESCRIPTION:El sidemount o configuració lateral va aparèixer per millorar l’accès a les griferies i els reguladors quan es fa busseig dins de coves o espais tancats en cas de problemes o emergències. Aquesta configuració de l’equip és perfecte si en algun pas estret dins d’una cova o d’una finestreta d’un barco enfonsat has de treure’t l’equip per poder franquejar-lo. \nPerò el Sidemount s’ha convertit per a molts bussejadores recreatius en un configuració molt utilitzada per a realitzar immersions a fondària i que requereixen d’una certa complexitat i canvi d’ampolles per a realitzar parades de descompressió. S’ha de considerar el seu ús si tens algun problema de lessió lumbar o per prevenir càrregues a l’esquena per la seva facilitat en el moment d’equipar-nos o desequipar-nos. \nMés info aquí
URL:https://www.planctondiving.cat/event/sidemount-6/
LOCATION:Tarragona
CATEGORIES:Cursos,Submarinisme
END:VEVENT
END:VCALENDAR