BEGIN:VCALENDAR
VERSION:2.0
PRODID:-//Plancton Diving - ECPv6.15.18//NONSGML v1.0//EN
CALSCALE:GREGORIAN
METHOD:PUBLISH
X-WR-CALNAME:Plancton Diving
X-ORIGINAL-URL:https://www.planctondiving.cat
X-WR-CALDESC:Esdeveniments per Plancton Diving
REFRESH-INTERVAL;VALUE=DURATION:PT1H
X-Robots-Tag:noindex
X-PUBLISHED-TTL:PT1H
BEGIN:VTIMEZONE
TZID:Europe/Helsinki
BEGIN:DAYLIGHT
TZOFFSETFROM:+0200
TZOFFSETTO:+0300
TZNAME:EEST
DTSTART:20190331T010000
END:DAYLIGHT
BEGIN:STANDARD
TZOFFSETFROM:+0300
TZOFFSETTO:+0200
TZNAME:EET
DTSTART:20191027T010000
END:STANDARD
BEGIN:DAYLIGHT
TZOFFSETFROM:+0200
TZOFFSETTO:+0300
TZNAME:EEST
DTSTART:20200329T010000
END:DAYLIGHT
BEGIN:STANDARD
TZOFFSETFROM:+0300
TZOFFSETTO:+0200
TZNAME:EET
DTSTART:20201025T010000
END:STANDARD
BEGIN:DAYLIGHT
TZOFFSETFROM:+0200
TZOFFSETTO:+0300
TZNAME:EEST
DTSTART:20210328T010000
END:DAYLIGHT
BEGIN:STANDARD
TZOFFSETFROM:+0300
TZOFFSETTO:+0200
TZNAME:EET
DTSTART:20211031T010000
END:STANDARD
END:VTIMEZONE
BEGIN:VEVENT
DTSTART;TZID=Europe/Helsinki:20200928T080000
DTEND;TZID=Europe/Helsinki:20200928T170000
DTSTAMP:20260423T061850
CREATED:20200928T083157Z
LAST-MODIFIED:20200928T083157Z
UID:452-1601280000-1601312400@www.planctondiving.cat
SUMMARY:Submarinisme al Mar Roig - Ruta Nord
DESCRIPTION:Creuer Ruta Nord del Mar Roig Egipci\n\nDates: 8 dies/7 nits\, del 15 al 22 de novembre de 2020 \nPlaces: 20 places en total (ens queden la meitat) \nPreu: 1.215€ tot inclòs. \nEl preu inclou: \n\nBitllet d’avió Barcelona- El Cairo-Sharm el Sheikh i tornada en vols de la companyia Egyptair\, en classe turista.\n7 nits en règim tot inclòs (excepte begudes alcohòliques) a bord del vaixell “KING SNEFRO TARGET”\nImmersions segons itinerari (3/4 diàries)\nNitrox 32% i WiFi gratuït.\n1 nit en règim tot inclòs i habitació doble a El Faarana Hotel\, a Sharm El Sheikh.\nTrasllats.\nAssegurança de viatge i cancel·lació AXA Escapada Plus.\n\nEl preu no inclou: \n\n Taxes aèries: 210 euros per persona (A pagar juntament import del viatge).\nTaxes embarcament: 30 euros per persona (A pagar juntament import del viatge).\nSuplement cabina llit doble: 40 euros per persona i setmana.\nSuplement cabina suite: 70 euros per persona i setmana.\nTaxa parc: 20 euros per persona (es paga a bord del vaixell)\nVisat: aprox. 25 euros per persona (es paga a l’aeroport)\nEquip personal de submarinisme: pregunta’ns i et farem un preu especial tarifa plana!\nPropines (es paguen a bord).\n\nPROMO especial: les dues primeres parelles que reservin fent paga i senyal teniu opció a triar cabina suite o cabina llit de matrimoni de forma gratuïta sense pagar el suplement! Truca’ns ràpid!
URL:https://www.planctondiving.cat/event/submarinisme-mar-roig-nord/
LOCATION:Plàncton Diving\, c/ Númer vint-i-tres\, 284\, Urb. Les Tres Cales – L’Ametlla de Mar\, Tarragona\, Espanya
CATEGORIES:Submarinisme
ATTACH;FMTTYPE=image/jpeg:https://www.planctondiving.cat/wp-content/uploads/2020/09/mar-roig-rojo-buceo-plancton-diving-scaled.jpg
END:VEVENT
BEGIN:VEVENT
DTSTART;TZID=Europe/Helsinki:20200926T083000
DTEND;TZID=Europe/Helsinki:20200927T180000
DTSTAMP:20260423T061850
CREATED:20200925T103427Z
LAST-MODIFIED:20200925T103535Z
UID:442-1601109000-1601229600@www.planctondiving.cat
SUMMARY:Curs Iniciació al Submarinisme “Open Water Diver” a l’Ametlla de Mar
DESCRIPTION:Sempre has volgut ser bussejador/a però mai no trobaves el moment de fer el curs?\nApunta’t al curs OPEN WATER DIVER\, la titulació de primer nivell que et permetrà adquirir els coneixements i habilitats per bussejar de forma autònoma fins a una profunditat de 18 metres\, i amb la qual podràs anar a bussejar a qualsevol lloc del món on vagis de vacances!\nEl curs consisteix en la teoria online des de casa\, pràctiques a piscina i pràctiques a mar\, per un preu de 350€ amb tot l’equip\, aire\, tramitació de la titulació i assegurança inclosa\, i on incloem també el Curs d’Introducció a la Biologia Marina de la mà de les nostres #oceanògrafes! \nAventura’t a iniciar-te en aquest meravellós món submarí!! Pots fer la teva reserva al telèfon 977-45-77-41\, a info@planctondiving.cat o a través de la web www.planctondiving.cat. \nMés info del curs: https://www.planctondiving.cat/es/courses-items/curso-open-water-diver/ \n  \n  \n\n(CAST)\nSiempre has querido ser buceador/a pero nunca encontrabas el momento de hacer el curso?\nApúntate al curso OPEN WATER DIVER\, la titulación de primer nivel que te permitirá adquirir los conocimientos y habilidades para bucear de forma autónoma hasta una profundidad de 18 metros\, y con la que podrás ir a bucear en cualquier lugar del mundo donde vayas de vacaciones!\nEl curso consiste en teoría online\, prácticas en piscina y prácticas en mar\, por un precio de 350 € con todo el equipo\, aire\, tramitación de la titulación y seguro incluido\, y además incluimos también el Curso de Introducción a la Biología Marina de la mano de nuestras #Oceanógrafas!Aventúrate a iniciarte en este maravilloso mundo submarino !! Puedes hacer tu reserva en el teléfono 977-45-77-41\, a info@planctondiving.cat o a través de la web www.planctondiving.cat.\n\n\nMás info: https://www.planctondiving.cat/es/courses-items/curso-open-water-diver/
URL:https://www.planctondiving.cat/event/curs-iniciacio-al-submarinisme-open-water-diver-a-lametlla-de-mar/
LOCATION:Plàncton Diving\, c/ Númer vint-i-tres\, 284\, Urb. Les Tres Cales – L’Ametlla de Mar\, Tarragona\, Espanya
CATEGORIES:Cursos,Submarinisme
ATTACH;FMTTYPE=image/jpeg:https://www.planctondiving.cat/wp-content/uploads/2020/07/plancton-diving-submarinisme-bateig-ametlla-catalunya-cursos-scaled.jpg
END:VEVENT
END:VCALENDAR