BEGIN:VCALENDAR
VERSION:2.0
PRODID:-//Plancton Diving - ECPv6.15.18//NONSGML v1.0//EN
CALSCALE:GREGORIAN
METHOD:PUBLISH
X-WR-CALNAME:Plancton Diving
X-ORIGINAL-URL:https://www.planctondiving.cat
X-WR-CALDESC:Esdeveniments per Plancton Diving
REFRESH-INTERVAL;VALUE=DURATION:PT1H
X-Robots-Tag:noindex
X-PUBLISHED-TTL:PT1H
BEGIN:VTIMEZONE
TZID:Europe/Helsinki
BEGIN:DAYLIGHT
TZOFFSETFROM:+0200
TZOFFSETTO:+0300
TZNAME:EEST
DTSTART:20250330T010000
END:DAYLIGHT
BEGIN:STANDARD
TZOFFSETFROM:+0300
TZOFFSETTO:+0200
TZNAME:EET
DTSTART:20251026T010000
END:STANDARD
BEGIN:DAYLIGHT
TZOFFSETFROM:+0200
TZOFFSETTO:+0300
TZNAME:EEST
DTSTART:20260329T010000
END:DAYLIGHT
BEGIN:STANDARD
TZOFFSETFROM:+0300
TZOFFSETTO:+0200
TZNAME:EET
DTSTART:20261025T010000
END:STANDARD
BEGIN:DAYLIGHT
TZOFFSETFROM:+0200
TZOFFSETTO:+0300
TZNAME:EEST
DTSTART:20270328T010000
END:DAYLIGHT
BEGIN:STANDARD
TZOFFSETFROM:+0300
TZOFFSETTO:+0200
TZNAME:EET
DTSTART:20271031T010000
END:STANDARD
END:VTIMEZONE
BEGIN:VEVENT
DTSTART;TZID=Europe/Helsinki:20260607T090000
DTEND;TZID=Europe/Helsinki:20260607T140000
DTSTAMP:20260423T133431
CREATED:20240313T171424Z
LAST-MODIFIED:20260415T192803Z
UID:9004-1780822800-1780840800@www.planctondiving.cat
SUMMARY:Scooter
DESCRIPTION:Voleu gaudir d’immersions més llargues\, arribar més lluny i descobrir àrees més profundes? El programa d’especialitat Scooter/DPV de SSI és just el que estàs buscant! Les cames et permeten arribar a una distància limitada\, però amb un scooter submarí o un vehicle de propulsió de busseig (DPV)\, sempre bussejaràs amb més facilitat i comoditat. \nAquí trobareu tota la informació del cursos de scooter
URL:https://www.planctondiving.cat/event/scooter-12/
LOCATION:Tarragona
CATEGORIES:Cursos,Submarinisme
ATTACH;FMTTYPE=image/jpeg:https://www.planctondiving.cat/wp-content/uploads/2021/11/Presentation-Scooter-DPV-Diving1.jpg
END:VEVENT
BEGIN:VEVENT
DTSTART;VALUE=DATE:20260613
DTEND;VALUE=DATE:20260628
DTSTAMP:20260423T133431
CREATED:20240303T163122Z
LAST-MODIFIED:20260415T193215Z
UID:8833-1781308800-1782604799@www.planctondiving.cat
SUMMARY:Extended Range - Foundations
DESCRIPTION:El curs de busseig Extended Range Foundations és un curs d’introducció al busseig tècnic i el primer pas per passar-te al que els submarinistes anomenem “el costat fosc”. \nCom funciona el curs?\nCom tots els cursos de la nostra certificadora de busseig SSI\, tindràs a la teva disposició la teoria per estudiar-la en línia des de qualsevol lloc del planeta\, al teu ritme i en l’idioma que desitgis. A més\, tenim un grup de Facebook amb diversos vídeos que t’ha preparat el nostre instructor i director tècnic Xavi Llambrich\, perquè puguis fer les seves sessions teòriques des de casa tranquil·lament quan estiguis concentrat/da. \nDies de Juny: 13; 14; 20; 21 i 27 \nMés info aquí
URL:https://www.planctondiving.cat/event/extended-range-foundations-6/
LOCATION:Tarragona
CATEGORIES:Cursos,Submarinisme
ATTACH;FMTTYPE=image/jpeg:https://www.planctondiving.cat/wp-content/uploads/2021/11/218290013_1160973410980731_707634472233795559_n.jpg
END:VEVENT
BEGIN:VEVENT
DTSTART;TZID=Europe/Helsinki:20260701T100000
DTEND;TZID=Europe/Helsinki:20260701T140000
DTSTAMP:20260423T133431
CREATED:20240314T101716Z
LAST-MODIFIED:20260423T100942Z
UID:9048-1782900000-1782914400@www.planctondiving.cat
SUMMARY:Curs d'Orientació
DESCRIPTION:La realització del curs d’orientació submarina és una formació necessària com a bussejador novel que vol guanyar en experiència i comoditat sota l’aigua. No et conformis amb seguir al teu guia de busseig\, aprendre a orientar-te sota l’aigua pot resultar molt útil si us perdeu del grup o teniu una emergència i cal tornar al barco o al punt d’inici de la immersió. Si saps orientar-te\, augmentarà la teva comoditat i confiança durant les teves aventures sota l’aigua. \nDurant el curs d’orientació submarina aprendràs a utilitzar elements naturals com ara el sol\, la fondària o la sorra del fons. Aprendràs a fer servir la bruixula com a element d’orientació i a calcular rumbs.
URL:https://www.planctondiving.cat/event/curs-dorientacio-17/
LOCATION:Plàncton Diving\, c/ Númer vint-i-tres\, 284\, Urb. Les Tres Cales – L’Ametlla de Mar\, Tarragona\, Espanya
CATEGORIES:Cursos,Submarinisme
ATTACH;FMTTYPE=image/jpeg:https://www.planctondiving.cat/wp-content/uploads/2020/09/orientacio.jpg
END:VEVENT
BEGIN:VEVENT
DTSTART;TZID=Europe/Helsinki:20260703T170000
DTEND;TZID=Europe/Helsinki:20260703T233000
DTSTAMP:20260423T133431
CREATED:20240314T102100Z
LAST-MODIFIED:20260423T101643Z
UID:9052-1783098000-1783121400@www.planctondiving.cat
SUMMARY:Busseig nocturn i visibilitat reduïda
DESCRIPTION:Amb el curs de busseig nocturn i visibilitat reduida les teves immersions no s’acabaran quan es posa el sol\, o quan l’aigua no sigui totalment transparent o si vols bussejar en una pedrera on en un llac. \nMés info aquí
URL:https://www.planctondiving.cat/event/busseig-nocturn-i-visibilitat-reduida-28/
LOCATION:Tarragona
ATTACH;FMTTYPE=image/jpeg:https://www.planctondiving.cat/wp-content/uploads/2020/09/night-limited-visibility.jpg
END:VEVENT
BEGIN:VEVENT
DTSTART;TZID=Europe/Helsinki:20260707T090000
DTEND;TZID=Europe/Helsinki:20260708T170000
DTSTAMP:20260423T133431
CREATED:20240314T093319Z
LAST-MODIFIED:20260423T101849Z
UID:9011-1783414800-1783530000@www.planctondiving.cat
SUMMARY:Stress & Rescue + React Right
DESCRIPTION:La formació d’Emergency Training inclou les dues especialitats: Stress & Rescue i React Right (primers auxilis\, oxigenoteràpia i suport vital bàsic) i està orientada a preparar-te per millorar la teva resposta davant d’un possible accident teu o d’una altra persona. \nLa formació de React Right et dóna coneixements sobre primers auxilis\, tant a terra com a mar\, suport vital bàsic i oxigenoteràpia. És imprescindible per obtenir la certificació d’Stress & Rescue. \nAquesta especialitat és IMPRESCINBLE si estàs pensant en dedicar-te professionalment al món del busseig recreatiu i és totalment RECOMANABLE per a qualsevol persona bussejadora que vulgui millorar la seva experiència de busseig.
URL:https://www.planctondiving.cat/event/stress-rescue-react-right-3/
LOCATION:Tarragona
CATEGORIES:Cursos,Submarinisme
ATTACH;FMTTYPE=image/jpeg:https://www.planctondiving.cat/wp-content/uploads/2023/06/stress.jpg
END:VEVENT
BEGIN:VEVENT
DTSTART;TZID=Europe/Helsinki:20260709T150000
DTEND;TZID=Europe/Helsinki:20260709T230000
DTSTAMP:20260423T133431
CREATED:20240303T181700Z
LAST-MODIFIED:20260423T102324Z
UID:8900-1783609200-1783638000@www.planctondiving.cat
SUMMARY:Dry suit- Vestit sec
DESCRIPTION:El curs de Busseig amb Vestit Sec t’ensenya noves habilitats i proporciona el coneixement i l’experiència necessària per utilitzar\, mantenir i conservar adequadament el teu nou equip. Allargaràs la teva temporada de busseig i podràs fer immersions a llacs de muntanya i aigües fredes. \nMés info aquí
URL:https://www.planctondiving.cat/event/dry-suit-vestit-sec-7/
LOCATION:Tarragona
CATEGORIES:Cursos,Submarinisme
ATTACH;FMTTYPE=image/jpeg:https://www.planctondiving.cat/wp-content/uploads/2020/09/dry-suit.jpg
END:VEVENT
END:VCALENDAR