BEGIN:VCALENDAR
VERSION:2.0
PRODID:-//Plancton Diving - ECPv6.15.18//NONSGML v1.0//EN
CALSCALE:GREGORIAN
METHOD:PUBLISH
X-WR-CALNAME:Plancton Diving
X-ORIGINAL-URL:https://www.planctondiving.cat
X-WR-CALDESC:Esdeveniments per Plancton Diving
REFRESH-INTERVAL;VALUE=DURATION:PT1H
X-Robots-Tag:noindex
X-PUBLISHED-TTL:PT1H
BEGIN:VTIMEZONE
TZID:Europe/Helsinki
BEGIN:DAYLIGHT
TZOFFSETFROM:+0200
TZOFFSETTO:+0300
TZNAME:EEST
DTSTART:20210328T010000
END:DAYLIGHT
BEGIN:STANDARD
TZOFFSETFROM:+0300
TZOFFSETTO:+0200
TZNAME:EET
DTSTART:20211031T010000
END:STANDARD
BEGIN:DAYLIGHT
TZOFFSETFROM:+0200
TZOFFSETTO:+0300
TZNAME:EEST
DTSTART:20220327T010000
END:DAYLIGHT
BEGIN:STANDARD
TZOFFSETFROM:+0300
TZOFFSETTO:+0200
TZNAME:EET
DTSTART:20221030T010000
END:STANDARD
BEGIN:DAYLIGHT
TZOFFSETFROM:+0200
TZOFFSETTO:+0300
TZNAME:EEST
DTSTART:20230326T010000
END:DAYLIGHT
BEGIN:STANDARD
TZOFFSETFROM:+0300
TZOFFSETTO:+0200
TZNAME:EET
DTSTART:20231029T010000
END:STANDARD
END:VTIMEZONE
BEGIN:VEVENT
DTSTART;VALUE=DATE:20220414
DTEND;VALUE=DATE:20220419
DTSTAMP:20260426T064840
CREATED:20210630T085040Z
LAST-MODIFIED:20211203T180024Z
UID:3859-1649894400-1650326399@www.planctondiving.cat
SUMMARY:Extended Range SSI
DESCRIPTION:Sempre heu volgut anar una mica més profund\, aprofundir una mica més o explorar més lluny? El busseig XR (Extended Range) obre una varietat d’entorns aquàtics\, augmenta els límits de profunditat del submarinisme i allarga els temps de fons. El programa SSI Extended Range és el programa bàsic sobre el qual es basen tota la resta de programes XR de circuit obert.\nMés info aquí
URL:https://www.planctondiving.cat/event/xr/
LOCATION:Plàncton Diving\, c/ Númer vint-i-tres\, 284\, Urb. Les Tres Cales – L’Ametlla de Mar\, Tarragona\, Espanya
CATEGORIES:Cursos,Submarinisme
ATTACH;FMTTYPE=image/jpeg:https://www.planctondiving.cat/wp-content/uploads/2021/11/Extended-Range.jpg
END:VEVENT
BEGIN:VEVENT
DTSTART;TZID=Europe/Helsinki:20220415T090000
DTEND;TZID=Europe/Helsinki:20220417T140000
DTSTAMP:20260426T064840
CREATED:20220308T092502Z
LAST-MODIFIED:20220308T092535Z
UID:5402-1650013200-1650204000@www.planctondiving.cat
SUMMARY:Curs Open Water Diver
DESCRIPTION:Si has arribat fins aquesta pàgina és que comences a tenir el “cuquet” del busseig dins teu. Potser ja has fet algun bateig de submarinisme (o no\, no és imprescindible) i ja saps que això de respirar sota l’aigua i que la sensació de “volar” per dins de l’aigua t’agrada. \nEfectivament\, el següent pas en el món del busseig es aquest curs d’iniciació que et presentem aquí: l’Open Water Diver. \nL’Open Water Diver serà el curs que t’obrirà les portes al món submarí i durant aquestes hores de classes teòriques i pràctiques aprendràs conceptes bàsics de seguretat\, sobre els equips\, flotabilitat\, entendràs què li passa al teu cos quan es troba dins de l’aigua o que el teu company/a de busseig és la primera mesura de seguretat.
URL:https://www.planctondiving.cat/event/curs-open-water-diver-18/
LOCATION:Plàncton Diving\, c/ Númer vint-i-tres\, 284\, Urb. Les Tres Cales – L’Ametlla de Mar\, Tarragona\, Espanya
CATEGORIES:Cursos,Submarinisme
ATTACH;FMTTYPE=image/jpeg:https://www.planctondiving.cat/wp-content/uploads/2020/09/owd.jpg
END:VEVENT
BEGIN:VEVENT
DTSTART;TZID=Europe/Helsinki:20220422T090000
DTEND;TZID=Europe/Helsinki:20220424T140000
DTSTAMP:20260426T064840
CREATED:20210426T024057Z
LAST-MODIFIED:20211203T183156Z
UID:3433-1650618000-1650808800@www.planctondiving.cat
SUMMARY:Curs Open Water Diver
DESCRIPTION:Si has arribat fins aquesta pàgina és que comences a tenir el “cuquet” del busseig dins teu. Potser ja has fet algun bateig de submarinisme (o no\, no és imprescindible) i ja saps que això de respirar sota l’aigua i que la sensació de “volar” per dins de l’aigua t’agrada. \nEfectivament\, el següent pas en el món del busseig es aquest curs d’iniciació que et presentem aquí: l’Open Water Diver. \nL’Open Water Diver serà el curs que t’obrirà les portes al món submarí i durant aquestes hores de classes teòriques i pràctiques aprendràs conceptes bàsics de seguretat\, sobre els equips\, flotabilitat\, entendràs què li passa al teu cos quan es troba dins de l’aigua o que el teu company/a de busseig és la primera mesura de seguretat.
URL:https://www.planctondiving.cat/event/curs-open-water-diver-17/
LOCATION:Plàncton Diving\, c/ Númer vint-i-tres\, 284\, Urb. Les Tres Cales – L’Ametlla de Mar\, Tarragona\, Espanya
CATEGORIES:Cursos,Submarinisme
ATTACH;FMTTYPE=image/jpeg:https://www.planctondiving.cat/wp-content/uploads/2020/09/owd.jpg
END:VEVENT
BEGIN:VEVENT
DTSTART;TZID=Europe/Helsinki:20220423T080000
DTEND;TZID=Europe/Helsinki:20220423T140000
DTSTAMP:20260426T064840
CREATED:20210630T084708Z
LAST-MODIFIED:20211203T180244Z
UID:3848-1650700800-1650722400@www.planctondiving.cat
SUMMARY:Curs de flotabilitat
DESCRIPTION:Aquest curs de flotabilitat és ALTAMENT recomanble si t’acabes de treure el títul d’Open Water Diver i vols millorar la seva flotabilitat i posició dins de l’aigua. \nDurant el curs\, faras un correcte entrenament i pràctica que t’ajudaran a guanyar comoditat sota l’aigua i disminuir el teu consum d’aire. A més\, amb una bona flotabilitat evitaràs malmetre la fauna i flora i evitaràs aixecar sediments que disminueixen la visibilitat dels companys i pot ser perillós per animals filtradors. \nUn bon control del teu cos sota l’aigua et permetrà guanyar en seguretat i en confiança en tu mateix\, a més de millorar la teva tècnica fotogràfica!
URL:https://www.planctondiving.cat/event/curs-de-flotabilitat-5/
LOCATION:Tarragona
CATEGORIES:Cursos,Submarinisme
ATTACH;FMTTYPE=image/jpeg:https://www.planctondiving.cat/wp-content/uploads/2020/09/107-Perfect-Bouyancy.jpg
END:VEVENT
BEGIN:VEVENT
DTSTART;VALUE=DATE:20220430
DTEND;VALUE=DATE:20220502
DTSTAMP:20260426T064840
CREATED:20210630T085157Z
LAST-MODIFIED:20211203T182837Z
UID:3861-1651276800-1651449599@www.planctondiving.cat
SUMMARY:Rescue i React Right (primers auxilis)
DESCRIPTION:La formació de Stress & Rescue està orientada a preparar-te per millorar la teva resposta davant un eventual incident o accident de busseig\, tant propi com del company. \nAquesta especialitat és IMPRESCINBLE si estas pensant en dedicar-te professionalment al món del busseig recreatiu i és totalment RECOMANABLE per a qualsevol persona bussejadora que vulgui millorar la seva experiència de busseig. \nDurant el curs de Stress & Rescue aprendràs com gestionar el stress que pot aparèixer durant un possible incident durant una immersió i tindràs eines que et permetràn resoldre aquestes situacions evitant que l’accident es produeixi.
URL:https://www.planctondiving.cat/event/rescue-2/
LOCATION:Tarragona
CATEGORIES:Cursos,Submarinisme
ATTACH;FMTTYPE=image/jpeg:https://www.planctondiving.cat/wp-content/uploads/2020/09/rescue.jpg
END:VEVENT
END:VCALENDAR