BEGIN:VCALENDAR
VERSION:2.0
PRODID:-//Plancton Diving - ECPv6.15.18//NONSGML v1.0//EN
CALSCALE:GREGORIAN
METHOD:PUBLISH
X-WR-CALNAME:Plancton Diving
X-ORIGINAL-URL:https://www.planctondiving.cat
X-WR-CALDESC:Esdeveniments per Plancton Diving
REFRESH-INTERVAL;VALUE=DURATION:PT1H
X-Robots-Tag:noindex
X-PUBLISHED-TTL:PT1H
BEGIN:VTIMEZONE
TZID:Europe/Helsinki
BEGIN:DAYLIGHT
TZOFFSETFROM:+0200
TZOFFSETTO:+0300
TZNAME:EEST
DTSTART:20210328T010000
END:DAYLIGHT
BEGIN:STANDARD
TZOFFSETFROM:+0300
TZOFFSETTO:+0200
TZNAME:EET
DTSTART:20211031T010000
END:STANDARD
BEGIN:DAYLIGHT
TZOFFSETFROM:+0200
TZOFFSETTO:+0300
TZNAME:EEST
DTSTART:20220327T010000
END:DAYLIGHT
BEGIN:STANDARD
TZOFFSETFROM:+0300
TZOFFSETTO:+0200
TZNAME:EET
DTSTART:20221030T010000
END:STANDARD
BEGIN:DAYLIGHT
TZOFFSETFROM:+0200
TZOFFSETTO:+0300
TZNAME:EEST
DTSTART:20230326T010000
END:DAYLIGHT
BEGIN:STANDARD
TZOFFSETFROM:+0300
TZOFFSETTO:+0200
TZNAME:EET
DTSTART:20231029T010000
END:STANDARD
END:VTIMEZONE
BEGIN:VEVENT
DTSTART;VALUE=DATE:20220430
DTEND;VALUE=DATE:20220502
DTSTAMP:20260426T064840
CREATED:20210630T085157Z
LAST-MODIFIED:20211203T182837Z
UID:3861-1651276800-1651449599@www.planctondiving.cat
SUMMARY:Rescue i React Right (primers auxilis)
DESCRIPTION:La formació de Stress & Rescue està orientada a preparar-te per millorar la teva resposta davant un eventual incident o accident de busseig\, tant propi com del company. \nAquesta especialitat és IMPRESCINBLE si estas pensant en dedicar-te professionalment al món del busseig recreatiu i és totalment RECOMANABLE per a qualsevol persona bussejadora que vulgui millorar la seva experiència de busseig. \nDurant el curs de Stress & Rescue aprendràs com gestionar el stress que pot aparèixer durant un possible incident durant una immersió i tindràs eines que et permetràn resoldre aquestes situacions evitant que l’accident es produeixi.
URL:https://www.planctondiving.cat/event/rescue-2/
LOCATION:Tarragona
CATEGORIES:Cursos,Submarinisme
ATTACH;FMTTYPE=image/jpeg:https://www.planctondiving.cat/wp-content/uploads/2020/09/rescue.jpg
END:VEVENT
BEGIN:VEVENT
DTSTART;TZID=Europe/Helsinki:20220508T080000
DTEND;TZID=Europe/Helsinki:20220508T140000
DTSTAMP:20260426T064840
CREATED:20211203T181544Z
LAST-MODIFIED:20211203T182046Z
UID:4669-1651996800-1652018400@www.planctondiving.cat
SUMMARY:Dry Suit - Vestit sec
DESCRIPTION:El curs de Busseig amb Vestit Sec t’ensenya noves habilitats i proporciona el coneixement i l’experiència necessària per utilitzar\, mantenir i conservar adequadament el teu nou equip. Allargaràs la teva temporada de busseig i podràs fer immersions a llacs de muntanya i aigües fredes. \nMés info aquí
URL:https://www.planctondiving.cat/event/dry-suit-vestit-sec-2/
LOCATION:Tarragona
CATEGORIES:Cursos,Submarinisme
ATTACH;FMTTYPE=image/jpeg:https://www.planctondiving.cat/wp-content/uploads/2020/09/dry-suit.jpg
END:VEVENT
BEGIN:VEVENT
DTSTART;TZID=Europe/Helsinki:20220513T080000
DTEND;TZID=Europe/Helsinki:20220513T140000
DTSTAMP:20260426T064840
CREATED:20210630T085352Z
LAST-MODIFIED:20220215T133414Z
UID:3866-1652428800-1652450400@www.planctondiving.cat
SUMMARY:Curs de Flotabilitat
DESCRIPTION:Aquest curs de flotabilitat és ALTAMENT recomanble si t’acabes de treure el títul d’Open Water Diver i vols millorar la seva flotabilitat i posició dins de l’aigua. \nDurant el curs\, faras un correcte entrenament i pràctica que t’ajudaran a guanyar comoditat sota l’aigua i disminuir el teu consum d’aire. A més\, amb una bona flotabilitat evitaràs malmetre la fauna i flora i evitaràs aixecar sediments que disminueixen la visibilitat dels companys i pot ser perillós per animals filtradors. \nUn bon control del teu cos sota l’aigua et permetrà guanyar en seguretat i en confiança en tu mateix\, a més de millorar la teva tècnica fotogràfica!
URL:https://www.planctondiving.cat/event/curs-de-flotabilitat-6/
LOCATION:Tarragona
CATEGORIES:Cursos,Submarinisme
END:VEVENT
BEGIN:VEVENT
DTSTART;TZID=Europe/Helsinki:20220513T080000
DTEND;TZID=Europe/Helsinki:20220515T140000
DTSTAMP:20260426T064840
CREATED:20210426T023931Z
LAST-MODIFIED:20211203T183257Z
UID:3431-1652428800-1652623200@www.planctondiving.cat
SUMMARY:Curs Open Water Diver
DESCRIPTION:Si has arribat fins aquesta pàgina és que comences a tenir el “cuquet” del busseig dins teu. Potser ja has fet algun bateig de submarinisme (o no\, no és imprescindible) i ja saps que això de respirar sota l’aigua i que la sensació de “volar” per dins de l’aigua t’agrada. \nEfectivament\, el següent pas en el món del busseig es aquest curs d’iniciació que et presentem aquí: l’Open Water Diver. \nL’Open Water Diver serà el curs que t’obrirà les portes al món submarí i durant aquestes hores de classes teòriques i pràctiques aprendràs conceptes bàsics de seguretat\, sobre els equips\, flotabilitat\, entendràs què li passa al teu cos quan es troba dins de l’aigua o que el teu company/a de busseig és la primera mesura de seguretat.
URL:https://www.planctondiving.cat/event/curs-open-water-diver-16/
LOCATION:Tarragona
CATEGORIES:Cursos,Submarinisme
ATTACH;FMTTYPE=image/jpeg:https://www.planctondiving.cat/wp-content/uploads/2020/09/owd.jpg
END:VEVENT
BEGIN:VEVENT
DTSTART;TZID=Europe/Helsinki:20220514T080000
DTEND;TZID=Europe/Helsinki:20220514T140000
DTSTAMP:20260426T064840
CREATED:20211203T182258Z
LAST-MODIFIED:20211203T182258Z
UID:4675-1652515200-1652536800@www.planctondiving.cat
SUMMARY:Scooter
DESCRIPTION:Voleu gaudir d’immersions més llargues\, arribar més lluny i descobrir àrees més profundes? El programa d’especialitat Scooter/DPV de SSI és just el que estàs buscant! Les cames et permeten arribar a una distància limitada\, però amb un scooter submarí o un vehicle de propulsió de busseig (DPV)\, sempre bussejaràs amb més facilitat i comoditat. \nAquí trobareu tota la informació del cursos de scooter
URL:https://www.planctondiving.cat/event/scooter-4/
LOCATION:Tarragona
CATEGORIES:Cursos,Submarinisme
ATTACH;FMTTYPE=image/jpeg:https://www.planctondiving.cat/wp-content/uploads/2021/11/Presentation-Scooter-DPV-Diving1.jpg
END:VEVENT
BEGIN:VEVENT
DTSTART;TZID=Europe/Helsinki:20220516T080000
DTEND;TZID=Europe/Helsinki:20220517T140000
DTSTAMP:20260426T064840
CREATED:20210426T022045Z
LAST-MODIFIED:20211203T174701Z
UID:3395-1652688000-1652796000@www.planctondiving.cat
SUMMARY:Curs Full Face Mask diving
DESCRIPTION:
URL:https://www.planctondiving.cat/event/curs-full-face-mask-diving/
LOCATION:Plàncton Diving\, c/ Númer vint-i-tres\, 284\, Urb. Les Tres Cales – L’Ametlla de Mar\, Tarragona\, Espanya
CATEGORIES:Cursos,Submarinisme
END:VEVENT
BEGIN:VEVENT
DTSTART;TZID=Europe/Helsinki:20220521T090000
DTEND;TZID=Europe/Helsinki:20220522T140000
DTSTAMP:20260426T064840
CREATED:20210630T084501Z
LAST-MODIFIED:20211203T182411Z
UID:3846-1653123600-1653228000@www.planctondiving.cat
SUMMARY:Deep diving course
DESCRIPTION:La zona d’immersió més atractiva és segurament la de poca profunditat\, on arriba millor la llum i hi ha més vida. Però també podem trobar immersions molt interessants en la franja més profunda fins als 40 metres on podem trobar  derelictes\, camps de gorgònies o fauna menys castigada per la pesca. \nSense la formació adequada\, aquest tipus de busseig pot posar-te en perill. Per planificar les immersions de forma correcta\, primer has de conèixer com prevenir qualsevol dels riscos potencials implicats en el busseig profund. Aquest curs et proporcionarà la experiència necessària per fer que les teves immersions de busseig profund siguin fàcils i segures. \nDurant el curs aprendràs sobre  de l’equip\, les habilitats\, el coneixement i l’experiència necessària per poder realitzar immersions profundes recreatives fins als 40 metres de profunditat de forma segura.
URL:https://www.planctondiving.cat/event/deep-diving-course/
LOCATION:Plàncton Diving\, c/ Númer vint-i-tres\, 284\, Urb. Les Tres Cales – L’Ametlla de Mar\, Tarragona\, Espanya
CATEGORIES:Cursos,Submarinisme
ATTACH;FMTTYPE=image/jpeg:https://www.planctondiving.cat/wp-content/uploads/2020/09/deep.jpg
END:VEVENT
BEGIN:VEVENT
DTSTART;TZID=Europe/Helsinki:20220527T080000
DTEND;TZID=Europe/Helsinki:20220529T140000
DTSTAMP:20260426T064840
CREATED:20210426T023846Z
LAST-MODIFIED:20211203T183452Z
UID:3429-1653638400-1653832800@www.planctondiving.cat
SUMMARY:Curs Open Water Diver
DESCRIPTION:Si has arribat fins aquesta pàgina és que comences a tenir el “cuquet” del busseig dins teu. Potser ja has fet algun bateig de submarinisme (o no\, no és imprescindible) i ja saps que això de respirar sota l’aigua i que la sensació de “volar” per dins de l’aigua t’agrada. \nEfectivament\, el següent pas en el món del busseig es aquest curs d’iniciació que et presentem aquí: l’Open Water Diver. \nL’Open Water Diver serà el curs que t’obrirà les portes al món submarí i durant aquestes hores de classes teòriques i pràctiques aprendràs conceptes bàsics de seguretat\, sobre els equips\, flotabilitat\, entendràs què li passa al teu cos quan es troba dins de l’aigua o que el teu company/a de busseig és la primera mesura de seguretat.
URL:https://www.planctondiving.cat/event/curs-open-water-diver-15/
LOCATION:Plàncton Diving\, c/ Númer vint-i-tres\, 284\, Urb. Les Tres Cales – L’Ametlla de Mar\, Tarragona\, Espanya
CATEGORIES:Cursos,Submarinisme
ATTACH;FMTTYPE=image/jpeg:https://www.planctondiving.cat/wp-content/uploads/2020/09/owd.jpg
END:VEVENT
BEGIN:VEVENT
DTSTART;TZID=Europe/Helsinki:20220528T080000
DTEND;TZID=Europe/Helsinki:20220529T140000
DTSTAMP:20260426T064840
CREATED:20211203T182614Z
LAST-MODIFIED:20211203T182614Z
UID:4678-1653724800-1653832800@www.planctondiving.cat
SUMMARY:Decompression
DESCRIPTION:El programa és per aprendre a planificar i dur a terme una immersió amb descompressió limitada mitjançant un programari de planificació d’immersió i un ordinador multigas\, a una profunditat màxima de 40 metres. \nMés info aquí
URL:https://www.planctondiving.cat/event/decompression-2/
LOCATION:Tarragona
CATEGORIES:Cursos,Submarinisme
ATTACH;FMTTYPE=image/jpeg:https://www.planctondiving.cat/wp-content/uploads/2021/11/Presentation-Decompression-Diving1.jpg
END:VEVENT
END:VCALENDAR