BEGIN:VCALENDAR
VERSION:2.0
PRODID:-//Plancton Diving - ECPv6.15.18//NONSGML v1.0//EN
CALSCALE:GREGORIAN
METHOD:PUBLISH
X-WR-CALNAME:Plancton Diving
X-ORIGINAL-URL:https://www.planctondiving.cat
X-WR-CALDESC:Esdeveniments per Plancton Diving
REFRESH-INTERVAL;VALUE=DURATION:PT1H
X-Robots-Tag:noindex
X-PUBLISHED-TTL:PT1H
BEGIN:VTIMEZONE
TZID:Europe/Helsinki
BEGIN:DAYLIGHT
TZOFFSETFROM:+0200
TZOFFSETTO:+0300
TZNAME:EEST
DTSTART:20210328T010000
END:DAYLIGHT
BEGIN:STANDARD
TZOFFSETFROM:+0300
TZOFFSETTO:+0200
TZNAME:EET
DTSTART:20211031T010000
END:STANDARD
BEGIN:DAYLIGHT
TZOFFSETFROM:+0200
TZOFFSETTO:+0300
TZNAME:EEST
DTSTART:20220327T010000
END:DAYLIGHT
BEGIN:STANDARD
TZOFFSETFROM:+0300
TZOFFSETTO:+0200
TZNAME:EET
DTSTART:20221030T010000
END:STANDARD
BEGIN:DAYLIGHT
TZOFFSETFROM:+0200
TZOFFSETTO:+0300
TZNAME:EEST
DTSTART:20230326T010000
END:DAYLIGHT
BEGIN:STANDARD
TZOFFSETFROM:+0300
TZOFFSETTO:+0200
TZNAME:EET
DTSTART:20231029T010000
END:STANDARD
END:VTIMEZONE
BEGIN:VEVENT
DTSTART;TZID=Europe/Helsinki:20220604T090000
DTEND;TZID=Europe/Helsinki:20220604T170000
DTSTAMP:20260426T021301
CREATED:20211203T182806Z
LAST-MODIFIED:20211203T182806Z
UID:4680-1654333200-1654362000@www.planctondiving.cat
SUMMARY:Rescue i React Right (primers auxilis)
DESCRIPTION:La formació de Stress & Rescue està orientada a preparar-te per millorar la teva resposta davant un eventual incident o accident de busseig\, tant propi com del company. \nAquesta especialitat és IMPRESCINBLE si estas pensant en dedicar-te professionalment al món del busseig recreatiu i és totalment RECOMANABLE per a qualsevol persona bussejadora que vulgui millorar la seva experiència de busseig. \nDurant el curs de Stress & Rescue aprendràs com gestionar el stress que pot aparèixer durant un possible incident durant una immersió i tindràs eines que et permetràn resoldre aquestes situacions evitant que l’accident es produeixi.
URL:https://www.planctondiving.cat/event/rescue-i-react-right-primers-auxilis/
LOCATION:Tarragona
CATEGORIES:Cursos,Submarinisme
ATTACH;FMTTYPE=image/jpeg:https://www.planctondiving.cat/wp-content/uploads/2020/09/rescue.jpg
END:VEVENT
BEGIN:VEVENT
DTSTART;VALUE=DATE:20220610
DTEND;VALUE=DATE:20220626
DTSTAMP:20260426T021301
CREATED:20230201T101955Z
LAST-MODIFIED:20230201T101955Z
UID:7425-1654819200-1656201599@www.planctondiving.cat
SUMMARY:Extended Range SSI
DESCRIPTION:Sempre heu volgut anar una mica més profund\, aprofundir una mica més o explorar més lluny? El busseig XR (Extended Range) obre una varietat d’entorns aquàtics\, augmenta els límits de profunditat del submarinisme i allarga els temps de fons. El programa SSI Extended Range és el programa bàsic sobre el qual es basen tota la resta de programes XR de circuit obert.\nMés info aquí\n\n\nDates del curs:\n\nJuny: Dies 10\, 11\, 17\, 18\, 24 i 25
URL:https://www.planctondiving.cat/event/extended-range-ssi/
LOCATION:Plàncton Diving\, c/ Númer vint-i-tres\, 284\, Urb. Les Tres Cales – L’Ametlla de Mar\, Tarragona\, Espanya
CATEGORIES:Cursos,Submarinisme
ATTACH;FMTTYPE=image/jpeg:https://www.planctondiving.cat/wp-content/uploads/2021/11/Extended-Range.jpg
END:VEVENT
BEGIN:VEVENT
DTSTART;TZID=Europe/Helsinki:20220610T080000
DTEND;TZID=Europe/Helsinki:20220612T140000
DTSTAMP:20260426T021301
CREATED:20210426T023743Z
LAST-MODIFIED:20211203T183620Z
UID:3427-1654848000-1655042400@www.planctondiving.cat
SUMMARY:Curs Open Water Diver
DESCRIPTION:Si has arribat fins aquesta pàgina és que comences a tenir el “cuquet” del busseig dins teu. Potser ja has fet algun bateig de submarinisme (o no\, no és imprescindible) i ja saps que això de respirar sota l’aigua i que la sensació de “volar” per dins de l’aigua t’agrada. \nEfectivament\, el següent pas en el món del busseig es aquest curs d’iniciació que et presentem aquí: l’Open Water Diver. \nL’Open Water Diver serà el curs que t’obrirà les portes al món submarí i durant aquestes hores de classes teòriques i pràctiques aprendràs conceptes bàsics de seguretat\, sobre els equips\, flotabilitat\, entendràs què li passa al teu cos quan es troba dins de l’aigua o que el teu company/a de busseig és la primera mesura de seguretat.
URL:https://www.planctondiving.cat/event/curs-open-water-diver-14/
LOCATION:Plàncton Diving\, c/ Númer vint-i-tres\, 284\, Urb. Les Tres Cales – L’Ametlla de Mar\, Tarragona\, Espanya
CATEGORIES:Cursos,Submarinisme
ATTACH;FMTTYPE=image/jpeg:https://www.planctondiving.cat/wp-content/uploads/2020/09/owd.jpg
END:VEVENT
BEGIN:VEVENT
DTSTART;VALUE=DATE:20220616
DTEND;VALUE=DATE:20220618
DTSTAMP:20260426T021301
CREATED:20210630T085306Z
LAST-MODIFIED:20211203T175421Z
UID:3864-1655337600-1655510399@www.planctondiving.cat
SUMMARY:Advanced Wreck
DESCRIPTION:
URL:https://www.planctondiving.cat/event/advanced-wreck-2/
LOCATION:Tarragona
CATEGORIES:Cursos,Submarinisme
END:VEVENT
BEGIN:VEVENT
DTSTART;TZID=Europe/Helsinki:20220618T080000
DTEND;TZID=Europe/Helsinki:20220618T140000
DTSTAMP:20260426T021301
CREATED:20220216T133446Z
LAST-MODIFIED:20220216T133527Z
UID:5183-1655539200-1655560800@www.planctondiving.cat
SUMMARY:Curs de Flotabilitat
DESCRIPTION:Aquest curs de flotabilitat és ALTAMENT recomanble si t’acabes de treure el títul d’Open Water Diver i vols millorar la seva flotabilitat i posició dins de l’aigua. \nDurant el curs\, faras un correcte entrenament i pràctica que t’ajudaran a guanyar comoditat sota l’aigua i disminuir el teu consum d’aire. A més\, amb una bona flotabilitat evitaràs malmetre la fauna i flora i evitaràs aixecar sediments que disminueixen la visibilitat dels companys i pot ser perillós per animals filtradors. \nUn bon control del teu cos sota l’aigua et permetrà guanyar en seguretat i en confiança en tu mateix\, a més de millorar la teva tècnica fotogràfica!
URL:https://www.planctondiving.cat/event/curs-de-flotabilitat-8/
LOCATION:Tarragona
CATEGORIES:Cursos,Submarinisme
ATTACH;FMTTYPE=image/jpeg:https://www.planctondiving.cat/wp-content/uploads/2020/09/107-Perfect-Bouyancy.jpg
END:VEVENT
BEGIN:VEVENT
DTSTART;TZID=Europe/Helsinki:20220619T080000
DTEND;TZID=Europe/Helsinki:20220619T170000
DTSTAMP:20260426T021301
CREATED:20220217T073400Z
LAST-MODIFIED:20220217T073428Z
UID:5233-1655625600-1655658000@www.planctondiving.cat
SUMMARY:Curs d'Orientació
DESCRIPTION:La realització del curs d’orientació submarina és una formació necessària com a bussejador novel que vol guanyar en experiència i comoditat sota l’aigua. No et conformis amb seguir al teu guia de busseig\, aprendre a orientar-te sota l’aigua pot resultar molt útil si us perdeu del grup o teniu una emergència i cal tornar al barco o al punt d’inici de la immersió. Si saps orientar-te\, augmentarà la teva comoditat i confiança durant les teves aventures sota l’aigua. \nDurant el curs d’orientació submarina aprendràs a utilitzar elements naturals com ara el sol\, la fondària o la sorra del fons. Aprendràs a fer servir la bruixula com a element d’orientació i a calcular rumbs.
URL:https://www.planctondiving.cat/event/curs-dorientacio-2/
LOCATION:Plàncton Diving\, c/ Númer vint-i-tres\, 284\, Urb. Les Tres Cales – L’Ametlla de Mar\, Tarragona\, Espanya
CATEGORIES:Cursos,Submarinisme
ATTACH;FMTTYPE=image/jpeg:https://www.planctondiving.cat/wp-content/uploads/2020/09/orientacio.jpg
END:VEVENT
BEGIN:VEVENT
DTSTART;TZID=Europe/Helsinki:20220624T080000
DTEND;TZID=Europe/Helsinki:20220626T140000
DTSTAMP:20260426T021301
CREATED:20210426T023649Z
LAST-MODIFIED:20220214T190511Z
UID:3425-1656057600-1656252000@www.planctondiving.cat
SUMMARY:Curs Open Water Diver Junior
DESCRIPTION:Si has arribat fins aquesta pàgina és que comences a tenir el “cuquet” del busseig dins teu. Potser ja has fet algun bateig de submarinisme (o no\, no és imprescindible) i ja saps que això de respirar sota l’aigua i que la sensació de “volar” per dins de l’aigua t’agrada. \nEfectivament\, el següent pas en el món del busseig es aquest curs d’iniciació que et presentem aquí: l’Open Water Diver. \nL’Open Water Diver serà el curs que t’obrirà les portes al món submarí i durant aquestes hores de classes teòriques i pràctiques aprendràs conceptes bàsics de seguretat\, sobre els equips\, flotabilitat\, entendràs què li passa al teu cos quan es troba dins de l’aigua o que el teu company/a de busseig és la primera mesura de seguretat.
URL:https://www.planctondiving.cat/event/curs-open-water-diver-13/
LOCATION:Tarragona
CATEGORIES:Cursos,Submarinisme
ATTACH;FMTTYPE=image/jpeg:https://www.planctondiving.cat/wp-content/uploads/2020/09/owd.jpg
END:VEVENT
BEGIN:VEVENT
DTSTART;TZID=Europe/Helsinki:20220625T090000
DTEND;TZID=Europe/Helsinki:20220626T140000
DTSTAMP:20260426T021301
CREATED:20220216T134142Z
LAST-MODIFIED:20220216T134255Z
UID:5195-1656147600-1656252000@www.planctondiving.cat
SUMMARY:Deep diving course
DESCRIPTION:La zona d’immersió més atractiva és segurament la de poca profunditat\, on arriba millor la llum i hi ha més vida. Però també podem trobar immersions molt interessants en la franja més profunda fins als 40 metres on podem trobar  derelictes\, camps de gorgònies o fauna menys castigada per la pesca. \nSense la formació adequada\, aquest tipus de busseig pot posar-te en perill. Per planificar les immersions de forma correcta\, primer has de conèixer com prevenir qualsevol dels riscos potencials implicats en el busseig profund. Aquest curs et proporcionarà la experiència necessària per fer que les teves immersions de busseig profund siguin fàcils i segures. \nDurant el curs aprendràs sobre  de l’equip\, les habilitats\, el coneixement i l’experiència necessària per poder realitzar immersions profundes recreatives fins als 40 metres de profunditat de forma segura.
URL:https://www.planctondiving.cat/event/deep-diving-course-2/
LOCATION:Plàncton Diving\, c/ Númer vint-i-tres\, 284\, Urb. Les Tres Cales – L’Ametlla de Mar\, Tarragona\, Espanya
CATEGORIES:Cursos,Submarinisme
ATTACH;FMTTYPE=image/jpeg:https://www.planctondiving.cat/wp-content/uploads/2020/09/deep.jpg
END:VEVENT
BEGIN:VEVENT
DTSTART;TZID=Europe/Helsinki:20220625T090000
DTEND;TZID=Europe/Helsinki:20220626T170000
DTSTAMP:20260426T021301
CREATED:20220618T170229Z
LAST-MODIFIED:20220618T170307Z
UID:6685-1656147600-1656262800@www.planctondiving.cat
SUMMARY:Rescue i React Right (primers auxilis)
DESCRIPTION:La formació de Stress & Rescue està orientada a preparar-te per millorar la teva resposta davant un eventual incident o accident de busseig\, tant propi com del company. \nAquesta especialitat és IMPRESCINBLE si estas pensant en dedicar-te professionalment al món del busseig recreatiu i és totalment RECOMANABLE per a qualsevol persona bussejadora que vulgui millorar la seva experiència de busseig. \nDurant el curs de Stress & Rescue aprendràs com gestionar el stress que pot aparèixer durant un possible incident durant una immersió i tindràs eines que et permetràn resoldre aquestes situacions evitant que l’accident es produeixi.
URL:https://www.planctondiving.cat/event/rescue-i-react-right-primers-auxilis-2/
LOCATION:Tarragona
CATEGORIES:Cursos,Submarinisme
ATTACH;FMTTYPE=image/jpeg:https://www.planctondiving.cat/wp-content/uploads/2020/09/rescue.jpg
END:VEVENT
BEGIN:VEVENT
DTSTART;TZID=Europe/Helsinki:20220627T080000
DTEND;TZID=Europe/Helsinki:20220627T170000
DTSTAMP:20260426T021301
CREATED:20211203T175549Z
LAST-MODIFIED:20211203T175549Z
UID:4656-1656316800-1656349200@www.planctondiving.cat
SUMMARY:Scooter
DESCRIPTION:Aquí trobaràs més informació del curs
URL:https://www.planctondiving.cat/event/scooter-3/
LOCATION:Tarragona
CATEGORIES:Cursos,Submarinisme
END:VEVENT
BEGIN:VEVENT
DTSTART;TZID=Europe/Helsinki:20220627T080000
DTEND;TZID=Europe/Helsinki:20220627T170000
DTSTAMP:20260426T021301
CREATED:20220618T170327Z
LAST-MODIFIED:20220618T170357Z
UID:6688-1656316800-1656349200@www.planctondiving.cat
SUMMARY:Scooter
DESCRIPTION:Voleu gaudir d’immersions més llargues\, arribar més lluny i descobrir àrees més profundes? El programa d’especialitat Scooter/DPV de SSI és just el que estàs buscant! Les cames et permeten arribar a una distància limitada\, però amb un scooter submarí o un vehicle de propulsió de busseig (DPV)\, sempre bussejaràs amb més facilitat i comoditat. \nAquí trobareu tota la informació del cursos de scooter
URL:https://www.planctondiving.cat/event/scooter-5/
LOCATION:Tarragona
CATEGORIES:Cursos,Submarinisme
ATTACH;FMTTYPE=image/jpeg:https://www.planctondiving.cat/wp-content/uploads/2021/11/Presentation-Scooter-DPV-Diving1.jpg
END:VEVENT
END:VCALENDAR