BEGIN:VCALENDAR
VERSION:2.0
PRODID:-//Plancton Diving - ECPv6.15.18//NONSGML v1.0//EN
CALSCALE:GREGORIAN
METHOD:PUBLISH
X-WR-CALNAME:Plancton Diving
X-ORIGINAL-URL:https://www.planctondiving.cat
X-WR-CALDESC:Esdeveniments per Plancton Diving
REFRESH-INTERVAL;VALUE=DURATION:PT1H
X-Robots-Tag:noindex
X-PUBLISHED-TTL:PT1H
BEGIN:VTIMEZONE
TZID:Europe/Helsinki
BEGIN:DAYLIGHT
TZOFFSETFROM:+0200
TZOFFSETTO:+0300
TZNAME:EEST
DTSTART:20230326T010000
END:DAYLIGHT
BEGIN:STANDARD
TZOFFSETFROM:+0300
TZOFFSETTO:+0200
TZNAME:EET
DTSTART:20231029T010000
END:STANDARD
BEGIN:DAYLIGHT
TZOFFSETFROM:+0200
TZOFFSETTO:+0300
TZNAME:EEST
DTSTART:20240331T010000
END:DAYLIGHT
BEGIN:STANDARD
TZOFFSETFROM:+0300
TZOFFSETTO:+0200
TZNAME:EET
DTSTART:20241027T010000
END:STANDARD
BEGIN:DAYLIGHT
TZOFFSETFROM:+0200
TZOFFSETTO:+0300
TZNAME:EEST
DTSTART:20250330T010000
END:DAYLIGHT
BEGIN:STANDARD
TZOFFSETFROM:+0300
TZOFFSETTO:+0200
TZNAME:EET
DTSTART:20251026T010000
END:STANDARD
END:VTIMEZONE
BEGIN:VEVENT
DTSTART;TZID=Europe/Helsinki:20240904T160000
DTEND;TZID=Europe/Helsinki:20240904T190000
DTSTAMP:20260423T010726
CREATED:20240314T101543Z
LAST-MODIFIED:20240314T101620Z
UID:9046-1725465600-1725476400@www.planctondiving.cat
SUMMARY:Curs d'identificació de Coralls
DESCRIPTION:Més informació del curs d’identificació de coralls
URL:https://www.planctondiving.cat/event/curs-didentificacio-de-coralls-4/
LOCATION:Tarragona
END:VEVENT
BEGIN:VEVENT
DTSTART;TZID=Europe/Helsinki:20240905T150000
DTEND;TZID=Europe/Helsinki:20240905T200000
DTSTAMP:20260423T010726
CREATED:20240314T101716Z
LAST-MODIFIED:20240314T101802Z
UID:9048-1725548400-1725566400@www.planctondiving.cat
SUMMARY:Curs d'Orientació
DESCRIPTION:La realització del curs d’orientació submarina és una formació necessària com a bussejador novel que vol guanyar en experiència i comoditat sota l’aigua. No et conformis amb seguir al teu guia de busseig\, aprendre a orientar-te sota l’aigua pot resultar molt útil si us perdeu del grup o teniu una emergència i cal tornar al barco o al punt d’inici de la immersió. Si saps orientar-te\, augmentarà la teva comoditat i confiança durant les teves aventures sota l’aigua. \nDurant el curs d’orientació submarina aprendràs a utilitzar elements naturals com ara el sol\, la fondària o la sorra del fons. Aprendràs a fer servir la bruixula com a element d’orientació i a calcular rumbs.
URL:https://www.planctondiving.cat/event/curs-dorientacio-17/
LOCATION:Plàncton Diving\, c/ Númer vint-i-tres\, 284\, Urb. Les Tres Cales – L’Ametlla de Mar\, Tarragona\, Espanya
CATEGORIES:Cursos,Submarinisme
ATTACH;FMTTYPE=image/jpeg:https://www.planctondiving.cat/wp-content/uploads/2020/09/orientacio.jpg
END:VEVENT
BEGIN:VEVENT
DTSTART;TZID=Europe/Helsinki:20240921T153000
DTEND;TZID=Europe/Helsinki:20240921T203000
DTSTAMP:20260423T010726
CREATED:20240314T102556Z
LAST-MODIFIED:20240314T102631Z
UID:9058-1726932600-1726950600@www.planctondiving.cat
SUMMARY:Ecologia Marina
DESCRIPTION:Com a tots els cursos de la nostra certificadora de busseig SSI\, tindràs a la teva disposició la teoria per a estudiar-la online des de qualsevol lloc del planeta\, al teu ritme i en l’idioma que desitgis. Aquesta formació es veurà complementada per dos sessions de teoria sobre l’Ecologia Marina del Mar Mediterrani – perquè entendre el que tenim més a prop\, afavoreixen els canvis d’hàbits per a conservar-lo- que es realitzaran via la plataforma Zoom o prensecialment. \nMés info
URL:https://www.planctondiving.cat/event/ecologia-marina-8/
LOCATION:Tarragona
END:VEVENT
BEGIN:VEVENT
DTSTART;TZID=Europe/Helsinki:20240928T090000
DTEND;TZID=Europe/Helsinki:20240928T153000
DTSTAMP:20260423T010726
CREATED:20240314T102918Z
LAST-MODIFIED:20240314T102954Z
UID:9062-1727514000-1727537400@www.planctondiving.cat
SUMMARY:Curs d'Introducció a la Biologia Marina
DESCRIPTION:Més informació del curs de Biologia Marina
URL:https://www.planctondiving.cat/event/curs-dintroduccio-a-la-biologia-marina-11/
LOCATION:Tarragona
END:VEVENT
END:VCALENDAR